BEGIN:VCALENDAR
VERSION:2.0
PRODID:-//Javna ustanova Centar za edukaciju sudija i tužilaca u Republici Srpskoj - ECPv6.15.20//NONSGML v1.0//EN
CALSCALE:GREGORIAN
METHOD:PUBLISH
X-WR-CALNAME:Javna ustanova Centar za edukaciju sudija i tužilaca u Republici Srpskoj
X-ORIGINAL-URL:https://rs.cest.gov.ba
X-WR-CALDESC:Events for Javna ustanova Centar za edukaciju sudija i tužilaca u Republici Srpskoj
REFRESH-INTERVAL;VALUE=DURATION:PT1H
X-Robots-Tag:noindex
X-PUBLISHED-TTL:PT1H
BEGIN:VTIMEZONE
TZID:Europe/Sarajevo
BEGIN:DAYLIGHT
TZOFFSETFROM:+0100
TZOFFSETTO:+0200
TZNAME:CEST
DTSTART:20240331T010000
END:DAYLIGHT
BEGIN:STANDARD
TZOFFSETFROM:+0200
TZOFFSETTO:+0100
TZNAME:CET
DTSTART:20241027T010000
END:STANDARD
BEGIN:DAYLIGHT
TZOFFSETFROM:+0100
TZOFFSETTO:+0200
TZNAME:CEST
DTSTART:20250330T010000
END:DAYLIGHT
BEGIN:STANDARD
TZOFFSETFROM:+0200
TZOFFSETTO:+0100
TZNAME:CET
DTSTART:20251026T010000
END:STANDARD
BEGIN:DAYLIGHT
TZOFFSETFROM:+0100
TZOFFSETTO:+0200
TZNAME:CEST
DTSTART:20260329T010000
END:DAYLIGHT
BEGIN:STANDARD
TZOFFSETFROM:+0200
TZOFFSETTO:+0100
TZNAME:CET
DTSTART:20261025T010000
END:STANDARD
END:VTIMEZONE
BEGIN:VEVENT
DTSTART;TZID=Europe/Sarajevo:20250410T100000
DTEND;TZID=Europe/Sarajevo:20250411T140000
DTSTAMP:20260422T001416
CREATED:20250321T121419Z
LAST-MODIFIED:20250324T122140Z
UID:4064-1744279200-1744380000@rs.cest.gov.ba
SUMMARY:Izgradnja upravljačkih kapaciteta u pravosudnim institucijama
DESCRIPTION:Na prijedlog Visokog sudskog i tužilačkog savjeta Bosne i Hercegovine (VSTS BiH)\, Centar za edukaciju sudija i javnih tužilaca u Republici Srpskoj (CEST RS) i Centar za edukaciju sudija i tužilaca Federacije Bosne i Hercegovine (CEST FBiH)\, u skladu sa Programom stručnog usavršavanja i početne obuke za 2025. godinu\, organizuju seminar\, na temu: „Izgradnja upravljačkih kapaciteta u pravosudnim institucijama“\, koji će se održati 10 – 11. april 2025. godine u Banjaluci\, prostorije CEST-a RS\, Bulevar vojvode Stepe Stepanovića 60. \nIzlagači će biti Nikola Aničić\, predsjednik Osnovnog suda u Kotor Varoši\, Vedran Alidžanović\, glavni tužilac Kantonalnog tužilaštva Tuzlanskog kantona\, te predstavnici VSTS-a BiH. \nDnevni red: \nČetvrtak\, 10. 04. 2025. godine \n09:30 – 10:00             Otvaranje seminara i pozdravna riječ predstavnika organizatora \n10:00 – 11:30            „Izrada Planova rješavanja predmeta\, te njihove realizacije i provodjenja eventualnih mjera od strane rukovodilaca\, u slučaju neprovodjenja tih Planova ili odstupanja od istih“ \n11:30- 11:45                Diskusija\, pitanja i odgovori \n11:45 – 12:15                Pauza \n12:15 – 13:45              „Izrada i realizacija strateških i godišnjeg programa rada“ \n13:45 – 14:00             Diskusija\, pitanja i odgovori \n14:00-                          Kraj prvog dana seminara \nPetak\, 11. 04. 2025. godine \n09:00 –  09:30             Registracija učesnika \n09:30 – 11:00               „Izvještavanje o radu institucija“ \n11:00 – 11:15                  Diskusija\, pitanja i odgovori \n11:15 – 11:45                   Pauza \n11:45 – 12:45                 „Predstavljanje novih funkcionalnsti CMS/TCMS-a\, primjena  Pravilnika o CMS/TCMS-u sa naglaskom na važnost osiguranja kvaliteta podataka\, kreiranje specijalizacija za dodjelu predmeta“ \n12:45 – 13:00                „Predstavljanje mogućnosti Sistema za izvještavanje i podršku odlučivanju (SIPO)“                     \n13:00 – 13:15                  Diskusija\, pitanja i odgovori \n13:15- 13:30                    Pauza (opciono) \n13:30- 14:15                   „Predstavljanje HRMIS sistema i njegovo korištenje za lakše upravljanje i unapređenje rada institucija“ \n14:15- 14:30                    Diskusija\, pitanja i odgovori \n14:30-                              Završne riječi\, evaluacija seminara
URL:https://rs.cest.gov.ba/event/izgradnja-upravljackih-kapaciteta-u-pravosudnim-institucijama/
LOCATION:Banja Luka
CATEGORIES:Posebne teme
END:VEVENT
BEGIN:VEVENT
DTSTART;TZID=Europe/Sarajevo:20250410T100000
DTEND;TZID=Europe/Sarajevo:20250411T150000
DTSTAMP:20260422T001416
CREATED:20250319T114716Z
LAST-MODIFIED:20250805T111457Z
UID:4048-1744279200-1744383600@rs.cest.gov.ba
SUMMARY:Krivičnopravna zaštita okoliša/životne sredine kroz saradnju inspekcije i tužilaštva
DESCRIPTION:Centar za edukaciju sudija i javnih tužilaca u Republici Srpskoj\, u saradnji sa Centrom za edukaciju sudija i tužilaca Federacije Bosne i Hercegovine\, a uz podršku UNDP-a\, organizuje seminar iz krivičnopravne oblasti na temu: „Krivičnopravna zaštita okoliša/životne sredine kroz saradnju inspekcije i tužilaštva“\, koji će se održati 10. i 11. aprila 2025. godine u Mostaru. \nIzlagači su: g. Bojan Počkar\, viši inspektor\, g. Petar Pavlović\, pravni ekspert\, g. Dženan Rovčanin\, pravni ekspert\, Jasmina Mujezinović\, tužiteljica\, Kantonalno tužilaštvo Tuzlanskog kantona\, g. Dino Redžović\, okružni javni tužilac\, Okružno tužilaštvo Trebinje\, prof.dr. Senka Barudanović\, Prirodno-matematički fakultet Univerziteta u Sarajevu i prof.dr. Milan Mataruga\, Šumarski fakultet Univerziteta u Banjaluci. \nDnevni red: \n10. april \n10.00 – 10.30   Registracija učesnika\n10.30 – 11.00    Uvodna obraćanja\n• Projektne aktivnosti koje provodi UNDP – gđa Alma Mirvić-Kapić\, voditeljica projekta\n11.00 – 11.15     Početna aktivnost (upitnik)\n11.15 – 12.15      Organizacija inspekcijskog nadzora u Republici Sloveniji\n12.15 – 13.15      Saradnja institucija u ekološkim krivičnim predmetima\n13.15 – 14.15      Ručak\n14.15 – 15.00     Nova direktiva o ekološkom kriminalu u Evropskoj uniji\n15.00 – 16.00    Izazovi koordinacije institucionalnih mehanizama u svrhu zaštite okoliša/životne sredine\n16.00 – 17.00    Zaključna diskusija i rezimiranje prvog dana (*upitnik) \n11. april \n09.30 – 11.00   Rad na hipotetičkom slučaju\n11.00 – 11.15     Pauza\n11.15 – 12.30     Rad na hipotetičkom slučaju\n12.30 – 13.30    Ručak\n13:30-15:00      Biodiverzitet Bosne i Hercegovine-šta štitimo našim zakonima?\n15:00                  Zaključna diskusija i rezimiranje (*izlazni upitnik)
URL:https://rs.cest.gov.ba/event/krivicnopravna-zastita-okolisa-zivotne-sredine-kroz-saradnju-inspekcije-i-tuzilastva/
LOCATION:Mostar
CATEGORIES:Krivičnopravna oblast
END:VEVENT
BEGIN:VEVENT
DTSTART;TZID=Europe/Sarajevo:20250410T103000
DTEND;TZID=Europe/Sarajevo:20250410T143000
DTSTAMP:20260422T001416
CREATED:20250325T104449Z
LAST-MODIFIED:20250325T104449Z
UID:4076-1744281000-1744295400@rs.cest.gov.ba
SUMMARY:Sudska nagodba
DESCRIPTION:Centar za edukaciju sudija i javnih tužilaca u Republici Srpskoj\, u okviru Programa stručnog usavršavanja i početne obuke za 2025. godinu\, a u saradnji sa Centrom za edukaciju sudija i tužilaca Federacije Bosne i Hercegovine\, organizuje seminar iz građanskopravne oblasti\, na temu: „Sudska nagodba“\, koji će se održati u četvrtak 10. aprila 2025. godine\, u prostorijama Centra za edukaciju sudija i tužilaca Federacije Bosne i Hercegovine\, u Ul. Halida Nazečića br. 4\, Sarajevo. \nIzlagači na ovom seminaru će biti gđa Dragana Simanić\, sudija Okružnog suda u Bijeljini i doc. dr. sci Adis Poljić\, sudija Općinskog suda u Živinicama. \nDnevni red: \n10:00 – 10:30      Registracija učesnika i pozdravne riječi organizatora \n10:30 – 11:15        Sudska nagodba – pravni okvir \n11:15 – 12:00        Promjene u pristupu sudije rješavanju spora – nova uloga sudije u vođenju Predmeta \n12:00 – 12:15       Pauza \n12:15 – 13:00       Smjernice za zaključenje sudske nagodbe: vrste predmeta pogodne za zaključenje sudske nagodbe\, način pristupa  strankama\, postizanje dogovora na zadovoljstvo obje strane\, uloga sudije u postupku – načelo nepristrasnosti i ovlaštenja sudije \n13:00 – 14:00      Pobijanje valjanosti sudske nagodbe \n14:00 – 14:30       Simulacija slučaja
URL:https://rs.cest.gov.ba/event/sudska-nagodba/
LOCATION:Sarajevo
CATEGORIES:Građanskopravna oblast
END:VEVENT
END:VCALENDAR