BEGIN:VCALENDAR
VERSION:2.0
PRODID:-//Javna ustanova Centar za edukaciju sudija i tužilaca u Republici Srpskoj - ECPv6.15.20//NONSGML v1.0//EN
CALSCALE:GREGORIAN
METHOD:PUBLISH
X-WR-CALNAME:Javna ustanova Centar za edukaciju sudija i tužilaca u Republici Srpskoj
X-ORIGINAL-URL:https://rs.cest.gov.ba
X-WR-CALDESC:Events for Javna ustanova Centar za edukaciju sudija i tužilaca u Republici Srpskoj
REFRESH-INTERVAL;VALUE=DURATION:PT1H
X-Robots-Tag:noindex
X-PUBLISHED-TTL:PT1H
BEGIN:VTIMEZONE
TZID:Europe/Sarajevo
BEGIN:DAYLIGHT
TZOFFSETFROM:+0100
TZOFFSETTO:+0200
TZNAME:CEST
DTSTART:20240331T010000
END:DAYLIGHT
BEGIN:STANDARD
TZOFFSETFROM:+0200
TZOFFSETTO:+0100
TZNAME:CET
DTSTART:20241027T010000
END:STANDARD
BEGIN:DAYLIGHT
TZOFFSETFROM:+0100
TZOFFSETTO:+0200
TZNAME:CEST
DTSTART:20250330T010000
END:DAYLIGHT
BEGIN:STANDARD
TZOFFSETFROM:+0200
TZOFFSETTO:+0100
TZNAME:CET
DTSTART:20251026T010000
END:STANDARD
BEGIN:DAYLIGHT
TZOFFSETFROM:+0100
TZOFFSETTO:+0200
TZNAME:CEST
DTSTART:20260329T010000
END:DAYLIGHT
BEGIN:STANDARD
TZOFFSETFROM:+0200
TZOFFSETTO:+0100
TZNAME:CET
DTSTART:20261025T010000
END:STANDARD
END:VTIMEZONE
BEGIN:VEVENT
DTSTART;TZID=Europe/Sarajevo:20250409T100000
DTEND;TZID=Europe/Sarajevo:20250409T140000
DTSTAMP:20260422T002408
CREATED:20250313T124408Z
LAST-MODIFIED:20250313T124408Z
UID:4034-1744192800-1744207200@rs.cest.gov.ba
SUMMARY:Modul 1 – Evropska konvencija i ravnopravnost polova
DESCRIPTION:Obavještavamo Vas da Centar za edukaciju sudija i javnih tužilaca u Republici Srpskoj (CEST RS)\, na osnovu Programa stručnog usavršavanja i početne obuke za 2025. godinu\, a u okviru druge godine početne obuke stručnih saradnika\, organizuje obaveznu obuku za stručne saradnike zaposlene u sudovima i tužilaštvima\, i to: Modul 1 – Evropska konvencija i ravnopravnost polova\, koji će se održati  09. aprila 2025. godine u Banjaluci\, prostorije CEST-a RS\, Bulevar vojvode Stepe Stepanovića 60. \nIzlagači će biti Azmira Mejrušić\, sudija Okružnog suda u Doboju i Igor Popović\, ma\, Pravni fakultet Univerziteta u Banjoj Luci.
URL:https://rs.cest.gov.ba/event/modul-1-evropska-konvencija-i-ravnopravnost-polova/
LOCATION:Banja Luka
CATEGORIES:Obuka za stručne saradnike
END:VEVENT
END:VCALENDAR