BEGIN:VCALENDAR
VERSION:2.0
PRODID:-//Javna ustanova Centar za edukaciju sudija i tužilaca u Republici Srpskoj - ECPv6.15.20//NONSGML v1.0//EN
CALSCALE:GREGORIAN
METHOD:PUBLISH
X-WR-CALNAME:Javna ustanova Centar za edukaciju sudija i tužilaca u Republici Srpskoj
X-ORIGINAL-URL:https://rs.cest.gov.ba
X-WR-CALDESC:Events for Javna ustanova Centar za edukaciju sudija i tužilaca u Republici Srpskoj
REFRESH-INTERVAL;VALUE=DURATION:PT1H
X-Robots-Tag:noindex
X-PUBLISHED-TTL:PT1H
BEGIN:VTIMEZONE
TZID:Europe/Sarajevo
BEGIN:DAYLIGHT
TZOFFSETFROM:+0100
TZOFFSETTO:+0200
TZNAME:CEST
DTSTART:20240331T010000
END:DAYLIGHT
BEGIN:STANDARD
TZOFFSETFROM:+0200
TZOFFSETTO:+0100
TZNAME:CET
DTSTART:20241027T010000
END:STANDARD
BEGIN:DAYLIGHT
TZOFFSETFROM:+0100
TZOFFSETTO:+0200
TZNAME:CEST
DTSTART:20250330T010000
END:DAYLIGHT
BEGIN:STANDARD
TZOFFSETFROM:+0200
TZOFFSETTO:+0100
TZNAME:CET
DTSTART:20251026T010000
END:STANDARD
BEGIN:DAYLIGHT
TZOFFSETFROM:+0100
TZOFFSETTO:+0200
TZNAME:CEST
DTSTART:20260329T010000
END:DAYLIGHT
BEGIN:STANDARD
TZOFFSETFROM:+0200
TZOFFSETTO:+0100
TZNAME:CET
DTSTART:20261025T010000
END:STANDARD
END:VTIMEZONE
BEGIN:VEVENT
DTSTART;TZID=Europe/Sarajevo:20250408T080000
DTEND;TZID=Europe/Sarajevo:20250408T170000
DTSTAMP:20260422T001355
CREATED:20250319T115349Z
LAST-MODIFIED:20250319T115349Z
UID:4050-1744099200-1744131600@rs.cest.gov.ba
SUMMARY:Uvodni sastanak za online HELP kurs “Zaštita ličnih podataka prilikom objavljivanja presuda
DESCRIPTION:Obavještavamo Vas da Centar za edukaciju sudija i javnih tužilaca u Republici Srpskoj i Centar za edukaciju sudija i tužilaca Federacije BiH\, u saradnji sa Savjetom Evrope\, organizuju: “Uvodni sastanak za online HELP kurs “Zaštita ličnih podataka prilikom objavljivanja presuda” \n Uvodni sastanak biće održan 08. aprila 2025. godine\, putem Microsoft teams platfome. \nOvaj HELP online kurs primarno je namijenjen osobama određenim da odlučuju o tome koje će se odluke objaviti na web stranici pravosudnih institucija/savjetnicima odjeljenja sudske prakse na najvišim sudovima u BiH. Učešće mogu prijaviti i zainteresovani nosioci pravosudne funkcije. \nObuka će trajati nekoliko sedmica\, o čemu će učesnici saznati više detalja tokom uvodnog sastanka. Kurs će se voditi na B/H/S jezicima\, a svim učesnicima koji završe obuku biće dodijeljeni certifikati od voditelja projekta Savjeta Evrope\, u okviru kojeg se kurs realizuje. Tutor kursa je Šeila Brković Imamović iz Odjela za sudsku dokumentaciju i edukaciju\, Sekretarijat Visokog sudskog i tužilačkog savjeta Bosne i Hercgovine.
URL:https://rs.cest.gov.ba/event/uvodni-sastanak-za-online-help-kurs-zastita-licnih-podataka-prilikom-objavljivanja-presuda/
LOCATION:Online obuka
CATEGORIES:Posebne teme
END:VEVENT
END:VCALENDAR