BEGIN:VCALENDAR
VERSION:2.0
PRODID:-//Javna ustanova Centar za edukaciju sudija i tužilaca u Republici Srpskoj - ECPv6.15.20//NONSGML v1.0//EN
CALSCALE:GREGORIAN
METHOD:PUBLISH
X-WR-CALNAME:Javna ustanova Centar za edukaciju sudija i tužilaca u Republici Srpskoj
X-ORIGINAL-URL:https://rs.cest.gov.ba
X-WR-CALDESC:Events for Javna ustanova Centar za edukaciju sudija i tužilaca u Republici Srpskoj
REFRESH-INTERVAL;VALUE=DURATION:PT1H
X-Robots-Tag:noindex
X-PUBLISHED-TTL:PT1H
BEGIN:VTIMEZONE
TZID:Europe/Sarajevo
BEGIN:DAYLIGHT
TZOFFSETFROM:+0100
TZOFFSETTO:+0200
TZNAME:CEST
DTSTART:20240331T010000
END:DAYLIGHT
BEGIN:STANDARD
TZOFFSETFROM:+0200
TZOFFSETTO:+0100
TZNAME:CET
DTSTART:20241027T010000
END:STANDARD
BEGIN:DAYLIGHT
TZOFFSETFROM:+0100
TZOFFSETTO:+0200
TZNAME:CEST
DTSTART:20250330T010000
END:DAYLIGHT
BEGIN:STANDARD
TZOFFSETFROM:+0200
TZOFFSETTO:+0100
TZNAME:CET
DTSTART:20251026T010000
END:STANDARD
BEGIN:DAYLIGHT
TZOFFSETFROM:+0100
TZOFFSETTO:+0200
TZNAME:CEST
DTSTART:20260329T010000
END:DAYLIGHT
BEGIN:STANDARD
TZOFFSETFROM:+0200
TZOFFSETTO:+0100
TZNAME:CET
DTSTART:20261025T010000
END:STANDARD
END:VTIMEZONE
BEGIN:VEVENT
DTSTART;TZID=Europe/Sarajevo:20250401T093000
DTEND;TZID=Europe/Sarajevo:20250404T130000
DTSTAMP:20260422T001356
CREATED:20250224T091744Z
LAST-MODIFIED:20250224T091744Z
UID:3991-1743499800-1743771600@rs.cest.gov.ba
SUMMARY:Regionalna radionica o elektronskim dokazima
DESCRIPTION:Na osnovu Programa stručnog usavršavanja i početne obuke za 2025. godinu\, Savjet Evrope- CyberSEE projekat\, u saradnji sa Centrom za edukaciju sudija i javnih tužilaca u Republici Srpskoj i Centrom za edukaciju sudija i tužilaca u FBiH\, organizuje: „Regionalnu radionicu o elektronskim dokazima“\, koja će se održati 1-4. aprila 2025. godine u Sarajevu\, na engleskom jeziku (bez prevoda). \nObuka će se koncentrisati na predavanje od strane edukatora u prvom dijelu\, dok će ostatak radionice zahtijevati od učesnika da rade na scenariju slučaja. Ovaj scenario u osnovi obuke uključuje dosije predmeta\, video materijal\, izvještaje\, naloge i izjave o prikupljanju i ispitivanju elektronskih dokaza. \nOd učesnika će se tražiti da procijene sve dokaze i njihovu prihvatljivost iz različitih uglova strana u sistemu krivičnog pravosuđa. Do kraja obuke\, svi dokazi će proći kroz dokazno saslušanje i donošenje presude. Posljednji dan obuke biće posvećen praktičnim diskusijama u kojima će se sumirati primjena stečenog znanja na praktične slučajeve\, te metodologija izvođenja obuke koja je karakteristična za obuku elektronskih dokaza. \nObuka je namijenjena tužiocima\, sudijama i istražiocima koji posjeduju znanja iz oblasti visokotehnološkog kriminala Albanije\, Bosne i Hercegovine\, Crne Gore\, Sjeverne Makedonije\, Srbije\, Turske i Kosova koji su zainteresovani da razviju svoje vještine u elektronskim dokazima i postanu predavači ili sprovode aktivnosti obuke u budućnosti.
URL:https://rs.cest.gov.ba/event/regionalna-radionica-o-elektronskim-dokazima/
LOCATION:Sarajevo
CATEGORIES:Krivičnopravna oblast
END:VEVENT
BEGIN:VEVENT
DTSTART;TZID=Europe/Sarajevo:20250403T100000
DTEND;TZID=Europe/Sarajevo:20250404T140000
DTSTAMP:20260422T001356
CREATED:20250313T124104Z
LAST-MODIFIED:20250313T124104Z
UID:4031-1743674400-1743775200@rs.cest.gov.ba
SUMMARY:Podrška unapređenju edukativnih šema u oblasti integriteta
DESCRIPTION:Na osnovu Programa stručnog usavršavanja i početne obuke za 2025. godinu\, Centar za edukaciju sudija i javnih tužilaca u Republici Srpskoj (CEST RS) i Centar za edukaciju sudija i tužilaca Federacije Bosne i Hercegovine (CEST FBiH)\, u saradnji sa Visokim sudskim i tužilačkom savjetom Bosne i Hercegovine i EU4Justice- Projekat Faza II\, organizuju seminar\, na temu: „Podrška unapređenju edukativnih šema u oblasti integriteta“\, koji će se održati 03 – 04. april 2025. godine u sali Općinskog suda u Tuzli\, Ul. ZAVNOBIH-a bb.
URL:https://rs.cest.gov.ba/event/podrska-unapredjenju-edukativnih-sema-u-oblasti-integriteta-2/
LOCATION:Tuzla
CATEGORIES:Posebne teme
END:VEVENT
END:VCALENDAR