BEGIN:VCALENDAR
VERSION:2.0
PRODID:-//Javna ustanova Centar za edukaciju sudija i tužilaca u Republici Srpskoj - ECPv6.15.20//NONSGML v1.0//EN
CALSCALE:GREGORIAN
METHOD:PUBLISH
X-ORIGINAL-URL:https://rs.cest.gov.ba
X-WR-CALDESC:Events for Javna ustanova Centar za edukaciju sudija i tužilaca u Republici Srpskoj
REFRESH-INTERVAL;VALUE=DURATION:PT1H
X-Robots-Tag:noindex
X-PUBLISHED-TTL:PT1H
BEGIN:VTIMEZONE
TZID:Europe/Sarajevo
BEGIN:DAYLIGHT
TZOFFSETFROM:+0100
TZOFFSETTO:+0200
TZNAME:CEST
DTSTART:20240331T010000
END:DAYLIGHT
BEGIN:STANDARD
TZOFFSETFROM:+0200
TZOFFSETTO:+0100
TZNAME:CET
DTSTART:20241027T010000
END:STANDARD
BEGIN:DAYLIGHT
TZOFFSETFROM:+0100
TZOFFSETTO:+0200
TZNAME:CEST
DTSTART:20250330T010000
END:DAYLIGHT
BEGIN:STANDARD
TZOFFSETFROM:+0200
TZOFFSETTO:+0100
TZNAME:CET
DTSTART:20251026T010000
END:STANDARD
BEGIN:DAYLIGHT
TZOFFSETFROM:+0100
TZOFFSETTO:+0200
TZNAME:CEST
DTSTART:20260329T010000
END:DAYLIGHT
BEGIN:STANDARD
TZOFFSETFROM:+0200
TZOFFSETTO:+0100
TZNAME:CET
DTSTART:20261025T010000
END:STANDARD
END:VTIMEZONE
BEGIN:VEVENT
DTSTART;TZID=Europe/Sarajevo:20250324T080000
DTEND;TZID=Europe/Sarajevo:20250328T170000
DTSTAMP:20260422T020206
CREATED:20250227T085442Z
LAST-MODIFIED:20250227T090100Z
UID:4008-1742803200-1743181200@rs.cest.gov.ba
SUMMARY:Help online kurs "Trgovina ljudima u svrhu radne eksploatacije"
DESCRIPTION:Na osnovu Programa stručnog usavršavanja i početne obuke za 2025. godinu\, Centar za edukaciju sudija i javnih tužilaca u Republici Srpskoj\, u okviru zajedničke aktivnosti sa Centrom za edukaciju sudija i tužilaca u Federaciji BiH\, a u saradnji sa HELP programom Savjeta Evrope u okviru Projekta za borbu protiv trgovine ljudima u Bosni i Hercegovini\, organizuju onlajn kurs na temu: „Trgovina ljudima u svrhu radne eksploatacije”. \nPripremni onlajn sastanak tutora i učesnika će se održati u sedmici između 24. i 28. marta 2025. godine\, a kurs će početi 31. marta 2025. godine i trajati 8-10 sedmica.\nKurs će voditi sudija Adisa Zahiragić\, Kantonalni sud u Sarajevu i certifikovani HELP tutor u saradnji sa prof.dr Rebeka Kotlo\, Univerzitet “Džemal Bijedić” Mostar koja je takođe certifikovani HELP tutor za oblast trgovine ljudima. Kako biste mogli učestvovati\, molimo Vas da kreirate Vaš profil na stranici HELP projekta: http://help.elearning.ext.coe.int/ . Ukoliko ste već ranije napravili Vaš profil\, nije potrebno da pravite novi.\nPo uspješnom završetku obuke učesnici će dobiti certifikate Savjeta Evrope\, a stečeno znanje o primjeni Konvencije Savjeta Evrope o akciji protiv trgovine ljudima u Bosni i Hercegovini i modul “Trgovina ljudima u svrhu radne eksploatacije” koristiće im u daljem radu. \nHelp online kurs “Trgovina ljudima u svrhu radne eksploatacije”
URL:https://rs.cest.gov.ba/event/trgovina-ljudima-u-svrhu-radne-eksploatacije/
LOCATION:Online obuka
END:VEVENT
BEGIN:VEVENT
DTSTART;TZID=Europe/Sarajevo:20250327T080000
DTEND;TZID=Europe/Sarajevo:20250328T170000
DTSTAMP:20260422T020206
CREATED:20250307T121032Z
LAST-MODIFIED:20250307T121621Z
UID:4017-1743062400-1743181200@rs.cest.gov.ba
SUMMARY:Obuka o zabrani diskriminacije
DESCRIPTION:Centar za edukaciju sudija i javnih tužilaca u Republici Srpskoj i Centar za edukaciju sudija i tužilaca u Federaciji Bosne i Hercegovine\, u okviru projekta Savjeta Evrope „Podrška dosljednoj nacionalnoj provedbi Evropske konvencije o ljudskim pravima i olakšavanje izvršenja presuda Evropskog suda za ljudska prava u BiH“\, organizuju nastavak edukacije iz oblasti ljudskim prava\, na temu: „Obuka o zabrani diskriminacije“\, koja će se održati 27 – 28. mart 2025. godine. \nMjesto održavanja Sarajevo \nEdukatori će biti eksperti iz ove oblasti. \nOvoj edukaciji mogu prisustvovati samo sudije i javni tužioci\, koji su\, kao novoimenovani nosioci pravosudne funkcije tokom 2024. godine (treća generacija) uspješno okončali obuke iz oblasti ljudskih prava za ovu ciljnu grupu\, realizovane na osnovu Programa stručnog usavršavanja i početne obuke CEST-a RS za 2024. godinu. Takođe\, obuci mogu prisustovati i učesnci prve (2022) i druge (2023) generacije novoimenovanih nosilaca pravosudne funkcije\, koji u vrijeme održavanja ove obuke namijenjene njima\, nisu istoj prisustvovali. Broj učesnika seminara je ograničen. Ukoliko Vaša prijava ne bude prihvaćena zbog ograničenog broja učesnika\, bićete o tome posebno obaviješteni.
URL:https://rs.cest.gov.ba/event/obuka-o-zabrani-diskriminacije-2/
LOCATION:Sarajevo
CATEGORIES:Ljudska prava
END:VEVENT
END:VCALENDAR