BEGIN:VCALENDAR
VERSION:2.0
PRODID:-//Javna ustanova Centar za edukaciju sudija i tužilaca u Republici Srpskoj - ECPv6.15.20//NONSGML v1.0//EN
CALSCALE:GREGORIAN
METHOD:PUBLISH
X-WR-CALNAME:Javna ustanova Centar za edukaciju sudija i tužilaca u Republici Srpskoj
X-ORIGINAL-URL:https://rs.cest.gov.ba
X-WR-CALDESC:Events for Javna ustanova Centar za edukaciju sudija i tužilaca u Republici Srpskoj
REFRESH-INTERVAL;VALUE=DURATION:PT1H
X-Robots-Tag:noindex
X-PUBLISHED-TTL:PT1H
BEGIN:VTIMEZONE
TZID:Europe/Sarajevo
BEGIN:DAYLIGHT
TZOFFSETFROM:+0100
TZOFFSETTO:+0200
TZNAME:CEST
DTSTART:20240331T010000
END:DAYLIGHT
BEGIN:STANDARD
TZOFFSETFROM:+0200
TZOFFSETTO:+0100
TZNAME:CET
DTSTART:20241027T010000
END:STANDARD
BEGIN:DAYLIGHT
TZOFFSETFROM:+0100
TZOFFSETTO:+0200
TZNAME:CEST
DTSTART:20250330T010000
END:DAYLIGHT
BEGIN:STANDARD
TZOFFSETFROM:+0200
TZOFFSETTO:+0100
TZNAME:CET
DTSTART:20251026T010000
END:STANDARD
BEGIN:DAYLIGHT
TZOFFSETFROM:+0100
TZOFFSETTO:+0200
TZNAME:CEST
DTSTART:20260329T010000
END:DAYLIGHT
BEGIN:STANDARD
TZOFFSETFROM:+0200
TZOFFSETTO:+0100
TZNAME:CET
DTSTART:20261025T010000
END:STANDARD
END:VTIMEZONE
BEGIN:VEVENT
DTSTART;TZID=Europe/Sarajevo:20250317T090000
DTEND;TZID=Europe/Sarajevo:20250317T160000
DTSTAMP:20260422T020136
CREATED:20250218T111107Z
LAST-MODIFIED:20250227T102154Z
UID:3978-1742202000-1742227200@rs.cest.gov.ba
SUMMARY:Savremeno komuniciranje s javnošću
DESCRIPTION:Na prijedlog Visokog sudskog i tužilačkog savjeta Bosne i Hercegovine\, Centar za edukaciju sudija i javnih tužilaca u Republici Srpskoj  i Centar za edukaciju sudija i tužilaca Federacije Bosne i Hercegovine\, u skladu sa Programom stručnog usavršavanja i početne obuke za 2025. godinu\, organizuju seminar\, na temu: „Savremeno komuniciranje s javnošću“\, (obavezna obuka svih rukovodilaca pravosudnih institucija)\, a koji će se održati 17. marta 2025. godine u Banjaluci\, prostorije CEST-a RS\, Bulevar vojvode Stepe Stepanovića 60. \nEdukatori će biti Slavica Tadić\, predsjednica Osnovnog suda u Zvorniku\, Nina Hadžihajdarević\, osoba za odnose s javnošću\, Federalno tužilaštvo Federacije BiH. Seminaru će prisustvovati predstavnik VSTS BiH\, kako bi ispratio kvalitet seminara\, i na početku seminara prezentovao relevantne dokumente VSTS-a BiH u vezi sa ovom tematikom. \nDnevni red: \n08:30 – 09:00                   Dolazak učesnika i pozdravna riječ predstavnika  CEST-a RS \n09:00 – 10:00                   Predstavljanje Smjernica za objavljivanje sudskih i tužilačkih odluka\, akata i informacija o predmetima VSTS-a BiH i Pravilnika o objavljivanju  sudskih odluka Ministarstva pravde Republike Srpske  \n10:00 – 10:30                     Predstavljanje dokumenta Medijski akcioni plan razvijenog od strane VSTS-a BiH \n10:30 – 10:45                    Pauza \n10:45 – 11:30                      Strateško komuniciranje i uloga odnosa sa medijima u sudovima i tužilaštvima \n11:30 – 12:15                     Reagovanje u kriznim situacijama \n12:15 – 12:45                     Pauza \n12:45 – 13:45                     Komunikacija nosilaca pravosudnih funkcija sa javnošću i sukob interesa- situacije u kojima može doći do sukoba interesa \n13:45- 14:30                       Iskustva Osnovnog suda u Zvorniku u komunikaciji sa medijima i javnošću: davanje izjava za medije\, korišćenje web stranice za saopštavanje informacija         \n14:30 – 14:45                     Pauza \n14:45 – 15:45                     Praktična radionica: pisanje saopštenja za javnost (uz učešće svih prisutnih) \n15:45- 16:00                       Diskusija\, evaluacija i registracija učešća
URL:https://rs.cest.gov.ba/event/savremeno-komuniciranje-s-javnoscu-2/
LOCATION:Banja Luka
CATEGORIES:Posebne teme
END:VEVENT
BEGIN:VEVENT
DTSTART;TZID=Europe/Sarajevo:20250317T100000
DTEND;TZID=Europe/Sarajevo:20250318T153000
DTSTAMP:20260422T020136
CREATED:20250303T120557Z
LAST-MODIFIED:20250314T124033Z
UID:4015-1742205600-1742311800@rs.cest.gov.ba
SUMMARY:Napredna obuka na temu finansijskih istraga i oduzimanja imovinske koristi
DESCRIPTION:Na osnovu Programa stručnog usavršavanja i početne obuke za 2025. godinu\, Centar za edukaciju sudija i javnih tužilaca u Republici Srpskoj\, u saradnji sa Centrom za edukaciju sudija i tužilaca Federacije Bosne i Hercegovine\, a uz podršku AIRE Centra i EU4Justice Faza II projekta\, organizuje: „Naprednu obuku na temu finansijskih istraga i oduzimanja imovinske koristi “\, koja će se održati 17. i 18. marta 2025. godine u Sarajevu. \nIzlagači: Eldan Mujanović\, profesor\, Fakultet za kriminalistiku\, kriminologiju i sigurnosne studije\, Samir Selimović\, tužilac\, Kantonalno tužilaštvo Kantona Sarajevo\, Zlatko Knežević\, sudija Ustavnog suda Bosne i Hercegovine u penziji i konsultant na projektima AIRE centra\, Marija Vučko\, zamjenica Županijskog državnog odvjetnika u Županijskom državnom odvjetništvu u Splitu\, Melika Murtezić\, sudija\, Kantonalni sud u Sarajevu i Ladislav Hamran\, bivši predsjednik EUROJUST. \nDnevni red: \nPONEDJELJAK\, 17.3.2025. \n09:00-09:30    Registracija učesnika \n09:30-09:45     Otvaranje događaja i uvodne riječi \nSESIJA I: Značaj finansijskih istraga i efektivnog oduzimanja imovinske koristi i nezakonito stečene imovine u suzbijanju korupcije i organiziranog kriminala u Bosni i Hercegovini \n09:45-10:45      Karakteristike provođenja finansijskih istraga u predmetima korupcije i organiziranog kriminala u praksi tužilaštava u Bosni i Hercegovini \n10:45-11:15       Kafe pauza \n11:15-12:15        Oduzimanje imovinske koristi pribavljene krivičnim djelima i standardi zaštite ljudskih prava u svjetlu prakse Ustavnog suda BiH i Evropske konvencije za\nzaštitu ljudskih prava i osnovnih sloboda \n12:15-12:45      Diskusija i rezime prve sesije \n12:45-14:00     Ručak \nSESIJA II: Pravni režimi oduzimanja imovinske koristi i nezakonito stečene imovine i suzbijanja pranja novca u Bosni i Hercegovini i izvorima Evropske unije \n14:00-15:00    Finansijske istrage i modaliteti oduzimanja imovinske koristi i nezakonito stečene imovine u komparativnoj sudskoj praksi \nSESIJA III: Žene i ilegalne finansijske aktivnosti na Zapadnom Balkanu – pomjeranje granica znanja i djelovanja \n15:00-15:45    Specifične rodne uloge i položaj žena u manifestacijama korupcije i organiziranog kriminala u relevantnoj sudskoj praksi \nSESIJA IV: Interaktivni dio obuke \n15:45-16:00    Podjela učesnika u grupe (I grupa – tužioci i istražitelji\, II grupa – sudije\, sudski savjetnici i saradnici)\, pojašnjenje koncepta rada na studijama slučaja\,\nodređivanje predstavnika radnih grupa i dodjela facilitatora \nUTORAK\, 18.3.2025. \n09:30-10:30    Rad u grupama i priprema predstavljanja slučaja \n10:30-11:00     Kafe pauza \n11:00-11:45      Predstavljanje slučaja i hodograma finansijske istrage (Grupa I) i diskusija \n11:45-12:30      Predstavljanje slučaja i sudskog postupanja (Grupa II) i diskusija \n12:30-13:00     Završna diskusija i zatvaranje obuke \n13:00                Ručak \n 
URL:https://rs.cest.gov.ba/event/napredna-obuka-na-temu-finansijskih-istraga-i-oduzimanja-imovinske-koristi/
LOCATION:Sarajevo
CATEGORIES:Krivičnopravna oblast
END:VEVENT
END:VCALENDAR