BEGIN:VCALENDAR
VERSION:2.0
PRODID:-//Javna ustanova Centar za edukaciju sudija i tužilaca u Republici Srpskoj - ECPv6.15.20//NONSGML v1.0//EN
CALSCALE:GREGORIAN
METHOD:PUBLISH
X-WR-CALNAME:Javna ustanova Centar za edukaciju sudija i tužilaca u Republici Srpskoj
X-ORIGINAL-URL:https://rs.cest.gov.ba
X-WR-CALDESC:Events for Javna ustanova Centar za edukaciju sudija i tužilaca u Republici Srpskoj
REFRESH-INTERVAL;VALUE=DURATION:PT1H
X-Robots-Tag:noindex
X-PUBLISHED-TTL:PT1H
BEGIN:VTIMEZONE
TZID:Europe/Sarajevo
BEGIN:DAYLIGHT
TZOFFSETFROM:+0100
TZOFFSETTO:+0200
TZNAME:CEST
DTSTART:20240331T010000
END:DAYLIGHT
BEGIN:STANDARD
TZOFFSETFROM:+0200
TZOFFSETTO:+0100
TZNAME:CET
DTSTART:20241027T010000
END:STANDARD
BEGIN:DAYLIGHT
TZOFFSETFROM:+0100
TZOFFSETTO:+0200
TZNAME:CEST
DTSTART:20250330T010000
END:DAYLIGHT
BEGIN:STANDARD
TZOFFSETFROM:+0200
TZOFFSETTO:+0100
TZNAME:CET
DTSTART:20251026T010000
END:STANDARD
BEGIN:DAYLIGHT
TZOFFSETFROM:+0100
TZOFFSETTO:+0200
TZNAME:CEST
DTSTART:20260329T010000
END:DAYLIGHT
BEGIN:STANDARD
TZOFFSETFROM:+0200
TZOFFSETTO:+0100
TZNAME:CET
DTSTART:20261025T010000
END:STANDARD
END:VTIMEZONE
BEGIN:VEVENT
DTSTART;TZID=Europe/Sarajevo:20250313T080000
DTEND;TZID=Europe/Sarajevo:20250314T170000
DTSTAMP:20260422T033228
CREATED:20250218T110517Z
LAST-MODIFIED:20250311T093738Z
UID:3976-1741852800-1741971600@rs.cest.gov.ba
SUMMARY:Krivični postupak prema djeci i maloljetnicima
DESCRIPTION:Centar za edukaciju sudija i javnih tužilaca u Republici Srpskoj\, na osnovu Programa edukacije za sticanje posebnih znanja i kontinuirano stručno osposobljavanje i usavršavanje sudija i tužilaca iz oblasti dječijih prava\, prestupništva mladih i njihove krivičnopravne zaštite\, organizuje prvi ovogodišnji seminar za sudije i javne tužioce\, koji će postupati prema Zakonu o zaštiti i postupanju sa djecom i maloljetnicima u krivičnom postupku („Službeni glasnik Republike Srpske“\, br. 13/10\, 61/13 i 68/20)\, na temu: „Krivični postupak prema djeci i maloljetnicima“\, a koji će se održati 13. i 14. marta 2025. godine u prostorijama Centra za edukaciju sudija i javnih tužilaca u RS\, Bulevar vojvode Stepe Stepanovića 60\, Banja Luka.\nEdukatori na ovom seminaru će biti sudija Dragan Uletilović\, Okružni sud u Banjoj Luci i g. Nenad Mirkonj\, Ministarstvo pravde Republike Srpske. \n13.03.2025.god.  \n09\,45 – 10\,00                 Registracija učesnika \n10\,00 – 10\,15                  Otvaranje obuke i uvodna riječ organizatora                                                     \n10\,15 – 11\,15                    Prezentacija: Etiologija i fenomenologija maloljetničkog prestupništva  kriminološki aspekt \n11\,15 – 12\,15                    Prezentacija: Sistem maloljetničkog pravosuđa i međunarodni standardi sa aspekta relevantnih međunarodno pravnih instrumenata iz oblasti \nprava djeteta \n12\,15 – 12\,30                  Pauza \n12\,30- 13\,30                   Prezentacija : Krivični postupak prema maloljetnicima \n13\,30-  13\,45                   Pauza \n13\,45  – 14\,45                Prezentacija: Krivični postupak prema maloljetnicima \n14\,45- 15\,15                    Diskusija \n14.03.2025.god.  \n09\,15 – 10\,00                 Prezentacija: Maloljetničko materijalno krivično pravo \n10\,00 – 10\,45                 Prezentacija: Maloljetničko materijalno krivično pravo \n10\,45 – 11\,00                  Pauza \n11\,00- 11\,45                    Prezentacija : Maloljetničko izvršno krivično pravo \n11\,45  – 12\,30                 Prezentacija: Maloljetničko izvršno krivično pravo \n12\,30- 13\,00                   Diskusija \n13\,00- 13\,30                   Rezime\, zaključci\, evaluacija obuke
URL:https://rs.cest.gov.ba/event/krivicni-postupak-prema-djeci-i-maloljetnicima/
LOCATION:Banja Luka
CATEGORIES:Krivičnopravna oblast
END:VEVENT
BEGIN:VEVENT
DTSTART;TZID=Europe/Sarajevo:20250313T103000
DTEND;TZID=Europe/Sarajevo:20250313T140000
DTSTAMP:20260422T033228
CREATED:20250221T085513Z
LAST-MODIFIED:20250221T085513Z
UID:3984-1741861800-1741874400@rs.cest.gov.ba
SUMMARY:Primjena člana 37. Zakona o izvršnom postupku u praksi
DESCRIPTION:Na osnovu Programa stručnog usavršavanja i početne obuke za 2025. godinu\, Centar za edukaciju sudija i javnih tužilaca u Republici Srpskoj\, u saradnji sa Centrom za edukaciju sudija i tužilaca Federacije Bosne i Hercegovine\, organizuje seminar za sudije iz izvršne oblasti na temu: „Primjena člana 37. Zakona o izvršnom postupku u praksi i naplata zateznih kamata i troškova u izvršnom postupku“\, a koji će se održati 13. marta 2024. godine\, u prostorijama Centra za edukaciju sudija i tužilaca u Federaciji Bosne i Hercegovine\, u Ul. Halida Nazečića 4\, Sarajevo. Edukatori na ovom seminaru će biti gđa Nives Ćetojević sudija Osnovnog suda u Banjoj Luci\, i mr. sci. Amela Durić\, predsjednica Izvršnog odjeljenja Općinskog suda u Tuzli. \nDnevni red: \n10:00 – 10:30     Registracija učesnika \n10:30 – 12:00      I blok: \n\nPrimjena čl. 37. Zakona o izvršnom postupku u praksi\nPrikupljanje informacija o imovini dužnika\, postupanje sudova i tražilaca izvršenja u pogledu primjene člana 37. ZIP-a\nRazmatranje načina efikasnijeg prikupljanja podataka od strane suda i tražioca izvršenja\nProblemi s kojima se sudovi i tražioci izvršenja susreću u praksi pri primjeni člana 37. ZIP-a sa posebnim naglaskom na potraživanja koja se temelje na vjerodostojnoj ispravi\n\n12:00 – 12:15      Pauza \n12:15 – 13:45       II blok: \n\nNačin obračuna zatezne kamate u izvršnom postupku – općenito\, a u skladu sa članom 28. ZIP-a\nNačin obračuna kamate na troškove parničnog postupka u slučaju kada je prvostepenom presudom dosuđeno za troškove parničnog postupka manji iznos\, a drugostepenom presudom taj iznos povećan.\n\n13:45 – 14:15    Pitanja i komentari učesnika\, diskusija
URL:https://rs.cest.gov.ba/event/primjena-clana-37-zakona-o-izvrsnom-postupku-u-praksi-2/
LOCATION:Sarajevo
CATEGORIES:Izvršnopravna oblast
END:VEVENT
END:VCALENDAR