BEGIN:VCALENDAR
VERSION:2.0
PRODID:-//Javna ustanova Centar za edukaciju sudija i tužilaca u Republici Srpskoj - ECPv6.15.20//NONSGML v1.0//EN
CALSCALE:GREGORIAN
METHOD:PUBLISH
X-WR-CALNAME:Javna ustanova Centar za edukaciju sudija i tužilaca u Republici Srpskoj
X-ORIGINAL-URL:https://rs.cest.gov.ba
X-WR-CALDESC:Events for Javna ustanova Centar za edukaciju sudija i tužilaca u Republici Srpskoj
REFRESH-INTERVAL;VALUE=DURATION:PT1H
X-Robots-Tag:noindex
X-PUBLISHED-TTL:PT1H
BEGIN:VTIMEZONE
TZID:Europe/Sarajevo
BEGIN:DAYLIGHT
TZOFFSETFROM:+0100
TZOFFSETTO:+0200
TZNAME:CEST
DTSTART:20240331T010000
END:DAYLIGHT
BEGIN:STANDARD
TZOFFSETFROM:+0200
TZOFFSETTO:+0100
TZNAME:CET
DTSTART:20241027T010000
END:STANDARD
BEGIN:DAYLIGHT
TZOFFSETFROM:+0100
TZOFFSETTO:+0200
TZNAME:CEST
DTSTART:20250330T010000
END:DAYLIGHT
BEGIN:STANDARD
TZOFFSETFROM:+0200
TZOFFSETTO:+0100
TZNAME:CET
DTSTART:20251026T010000
END:STANDARD
BEGIN:DAYLIGHT
TZOFFSETFROM:+0100
TZOFFSETTO:+0200
TZNAME:CEST
DTSTART:20260329T010000
END:DAYLIGHT
BEGIN:STANDARD
TZOFFSETFROM:+0200
TZOFFSETTO:+0100
TZNAME:CET
DTSTART:20261025T010000
END:STANDARD
END:VTIMEZONE
BEGIN:VEVENT
DTSTART;TZID=Europe/Sarajevo:20250312T093000
DTEND;TZID=Europe/Sarajevo:20250312T150000
DTSTAMP:20260422T020135
CREATED:20250217T115544Z
LAST-MODIFIED:20250217T115544Z
UID:3974-1741771800-1741791600@rs.cest.gov.ba
SUMMARY:Uvodni sastanak za online CEPEJ HELP kurs
DESCRIPTION:Poštovana/i\, \nobavještavamo Vas da Centar za edukaciju sudija i javnih tužilaca u Republici Srpskoj i Centar za edukaciju sudija i tužilaca Federacije BiH\, u saradnji sa projektom „Jačanje efikasnosti i kvaliteta pravosuđa u BiH“ (BIHSEJ)\, koji implementira Evropska komisija za efikasnost pravosuđa (CEPEJ)\, kancelarija Savjeta Evrope\, i u skladu sa Programom stručnog usavršavanja i početne obuke za 2025. godinu\, organizuju: \nUvodni sastanak za online CEPEJ HELP kurs “Kvalitet pravosuđa: Rad CEPEJ-a”\, 12.marta 2025. godine\, Igman\, hotel “Monti”\, Veliko polje bb \nCEPEJ HELP kurs “Kvalitet pravosuđa: Rad CEPEJ-a” razvijen je tokom 2023. godine u okviru Human Rights Education for Legal Professionals (HELP) inicijative Savjeta Evrope. Ovaj kurs pruža obuku pravosudnim profesionalcima o standardima\, alatima i metodologijama CEPEJ-a\, s ciljem unapređenja efikasnosti\, kvaliteta i pristupačnosti pravosuđa\, uključujući analizu sudske statistike\, upravljanje predmetima i mjerenje učinka sudova. \nCiljna grupa su: predsjednici sudova\, rukovodstvo suda i sudije. \nKurs se sastoji se od uvodnog modula i 7 suštinskih modula: \n\nUvod u rad CEPEJ-a\nCEPEJ i mjerenje kvaliteta pravosuđa\nKorisnici/e i kvalitet pravosuđa\nVremensko upravljanje sudskim postupcima\nDigitalizacija pravosudnih procesa\nVještačka inteligencija i pravosuđe\nVažnost kvaliteta pravosuđa u medijaciji\n\nObuka će trajati nekoliko sedmica\, o čemu će učesnici saznati više detalja tokom uvodnog sastanka. Kurs će se voditi na B/H/S jezicima\, a svim učesnicima koji završe obuku biće dodijeljeni certifikati\, i ista će im se priznati u dane obavezne obuke. Tutor kursa je sudija Vrhovnog suda Federacije BiH\, gđa. Svjetlana Milić Veličkovski.
URL:https://rs.cest.gov.ba/event/uvodni-sastanak-za-online-cepej-help-kurs/
LOCATION:Igman
CATEGORIES:Posebne teme
END:VEVENT
END:VCALENDAR