BEGIN:VCALENDAR
VERSION:2.0
PRODID:-//Javna ustanova Centar za edukaciju sudija i tužilaca u Republici Srpskoj - ECPv6.15.20//NONSGML v1.0//EN
CALSCALE:GREGORIAN
METHOD:PUBLISH
X-WR-CALNAME:Javna ustanova Centar za edukaciju sudija i tužilaca u Republici Srpskoj
X-ORIGINAL-URL:https://rs.cest.gov.ba
X-WR-CALDESC:Events for Javna ustanova Centar za edukaciju sudija i tužilaca u Republici Srpskoj
REFRESH-INTERVAL;VALUE=DURATION:PT1H
X-Robots-Tag:noindex
X-PUBLISHED-TTL:PT1H
BEGIN:VTIMEZONE
TZID:Europe/Sarajevo
BEGIN:DAYLIGHT
TZOFFSETFROM:+0100
TZOFFSETTO:+0200
TZNAME:CEST
DTSTART:20240331T010000
END:DAYLIGHT
BEGIN:STANDARD
TZOFFSETFROM:+0200
TZOFFSETTO:+0100
TZNAME:CET
DTSTART:20241027T010000
END:STANDARD
BEGIN:DAYLIGHT
TZOFFSETFROM:+0100
TZOFFSETTO:+0200
TZNAME:CEST
DTSTART:20250330T010000
END:DAYLIGHT
BEGIN:STANDARD
TZOFFSETFROM:+0200
TZOFFSETTO:+0100
TZNAME:CET
DTSTART:20251026T010000
END:STANDARD
BEGIN:DAYLIGHT
TZOFFSETFROM:+0100
TZOFFSETTO:+0200
TZNAME:CEST
DTSTART:20260329T010000
END:DAYLIGHT
BEGIN:STANDARD
TZOFFSETFROM:+0200
TZOFFSETTO:+0100
TZNAME:CET
DTSTART:20261025T010000
END:STANDARD
END:VTIMEZONE
BEGIN:VEVENT
DTSTART;TZID=Europe/Sarajevo:20250305T100000
DTEND;TZID=Europe/Sarajevo:20250306T143000
DTSTAMP:20260422T015111
CREATED:20250211T093351Z
LAST-MODIFIED:20250211T093351Z
UID:3950-1741168800-1741271400@rs.cest.gov.ba
SUMMARY:Podrška unapređenju edukativnih šema u oblasti integriteta
DESCRIPTION:Na osnovu Programa stručnog usavršavanja i početne obuke za 2025. godinu\, Centar za edukaciju sudija i javnih tužilaca u Republici Srpskoj (CEST RS) i Centar za edukaciju sudija i tužilaca Federacije Bosne i Hercegovine (CEST FBiH)\, u saradnji sa Visokim sudskim i tužilačkom savjetom Bosne i Hercegovine i EU4Justice\, organizuju seminar\, na temu: „Podrška unapređenju edukativnih šema u oblasti integriteta“\, koji će se održati 05 – 06. mart 2025. godine u Banjaluci\, sala CEST-a RS\, Bulevar vojvode Stepe Stepanovića 60.
URL:https://rs.cest.gov.ba/event/podrska-unapredjenju-edukativnih-sema-u-oblasti-integriteta/
LOCATION:Banja Luka
CATEGORIES:Posebne teme
END:VEVENT
END:VCALENDAR