BEGIN:VCALENDAR
VERSION:2.0
PRODID:-//Javna ustanova Centar za edukaciju sudija i tužilaca u Republici Srpskoj - ECPv6.15.20//NONSGML v1.0//EN
CALSCALE:GREGORIAN
METHOD:PUBLISH
X-WR-CALNAME:Javna ustanova Centar za edukaciju sudija i tužilaca u Republici Srpskoj
X-ORIGINAL-URL:https://rs.cest.gov.ba
X-WR-CALDESC:Events for Javna ustanova Centar za edukaciju sudija i tužilaca u Republici Srpskoj
REFRESH-INTERVAL;VALUE=DURATION:PT1H
X-Robots-Tag:noindex
X-PUBLISHED-TTL:PT1H
BEGIN:VTIMEZONE
TZID:Europe/Sarajevo
BEGIN:DAYLIGHT
TZOFFSETFROM:+0100
TZOFFSETTO:+0200
TZNAME:CEST
DTSTART:20240331T010000
END:DAYLIGHT
BEGIN:STANDARD
TZOFFSETFROM:+0200
TZOFFSETTO:+0100
TZNAME:CET
DTSTART:20241027T010000
END:STANDARD
BEGIN:DAYLIGHT
TZOFFSETFROM:+0100
TZOFFSETTO:+0200
TZNAME:CEST
DTSTART:20250330T010000
END:DAYLIGHT
BEGIN:STANDARD
TZOFFSETFROM:+0200
TZOFFSETTO:+0100
TZNAME:CET
DTSTART:20251026T010000
END:STANDARD
BEGIN:DAYLIGHT
TZOFFSETFROM:+0100
TZOFFSETTO:+0200
TZNAME:CEST
DTSTART:20260329T010000
END:DAYLIGHT
BEGIN:STANDARD
TZOFFSETFROM:+0200
TZOFFSETTO:+0100
TZNAME:CET
DTSTART:20261025T010000
END:STANDARD
END:VTIMEZONE
BEGIN:VEVENT
DTSTART;TZID=Europe/Sarajevo:20250226T093000
DTEND;TZID=Europe/Sarajevo:20250228T130000
DTSTAMP:20260422T015046
CREATED:20250128T125937Z
LAST-MODIFIED:20250128T125937Z
UID:3929-1740562200-1740747600@rs.cest.gov.ba
SUMMARY:Obuka za edukatore o zabrani govora mržnje i zločinu motivisanim mržnjom
DESCRIPTION:Ovim putem\, obavještavamo Vas da će se „Obuka edukatora o govoru mržnje i zločinu počinjenom iz mržnje“\, uživo\, održati u periodu od 26. do 28. februara 2025. godine u Mostaru. Obuku organizuju CEST RS\, CEST FBiH i Savjet Evrope u okviru projekta „Podrška dosljednoj nacionalnoj provedbi Evropske konvencije o ljudskim pravima i olakšavanje izvršenja presuda Evropskog suda za ljudska prava u BiH“. \nDnevni red: \nSrijeda\, 26. februar \n09:30 – 9:40    Otvaranje obuke\, predstavnik CEST FBiH i RS i ulazni test \n09:40 – 10:40   Zaštita prava na slobodu izražavanja \n10:40 – 11:40   Kako se ispituje predmet prema članu 10: analiza korak po korak \n11:40 – 12:00   Pauza za kafu \n12:00 – 13:00   Zaštita ugleda I prava drugih \n13:00 – 14:00    Pauza za ručak \n14:00 – 14:30   Čuvari javnog interesa i zaštita novinarskog izvora \n14:30 – 15:00   Sloboda izražavanja i zaštita zdravlja\, morala i internet \n15:00 – 15:30   Kafe pauza \n15:30 – 16:15    Sloboda govora u odnosu na klevetu\, sa case study \nČetvrtak\, 27. februar \n09:30 – 10:45   Šta je govor mržnje i domaći i evropski pravni okvir za borbu protiv govora mržnje \n10:45 – 11:45     Predrasude / mržnja \n11:45 – 12:15     Pauza za kafu \n12:15 – 13:15     Borba protiv govora mržnje \n13:15 – 14:15     Pauza za ručak \n14:15 – 15:15     Primjeri iz prakse /case-study \n15:15 – 15:45     Pauza za kafu \n15:45 – 16:15     Vježba \nPetak\, 28. februabar  \n9:30 – 10:30     Krivična djela počinjena iz mržnje \n9:45 – 10:30       Mete i počinioci krivičnog djela \n10:30 –  11:00    Pauza za kafu \n11:00 – 12:15     Praktični rad \n12:15 – 12:45     Izlazni test\, evaluacija i zatvaranje \n12:45                   Ručak
URL:https://rs.cest.gov.ba/event/obuka-za-edukatore-o-zabrani-govora-mrznje-i-zlocinu-motivisanim-mrznjom/
LOCATION:Mostar
CATEGORIES:Ljudska prava
END:VEVENT
END:VCALENDAR