BEGIN:VCALENDAR
VERSION:2.0
PRODID:-//Javna ustanova Centar za edukaciju sudija i tužilaca u Republici Srpskoj - ECPv6.15.20//NONSGML v1.0//EN
CALSCALE:GREGORIAN
METHOD:PUBLISH
X-WR-CALNAME:Javna ustanova Centar za edukaciju sudija i tužilaca u Republici Srpskoj
X-ORIGINAL-URL:https://rs.cest.gov.ba
X-WR-CALDESC:Events for Javna ustanova Centar za edukaciju sudija i tužilaca u Republici Srpskoj
REFRESH-INTERVAL;VALUE=DURATION:PT1H
X-Robots-Tag:noindex
X-PUBLISHED-TTL:PT1H
BEGIN:VTIMEZONE
TZID:Europe/Sarajevo
BEGIN:DAYLIGHT
TZOFFSETFROM:+0100
TZOFFSETTO:+0200
TZNAME:CEST
DTSTART:20240331T010000
END:DAYLIGHT
BEGIN:STANDARD
TZOFFSETFROM:+0200
TZOFFSETTO:+0100
TZNAME:CET
DTSTART:20241027T010000
END:STANDARD
BEGIN:DAYLIGHT
TZOFFSETFROM:+0100
TZOFFSETTO:+0200
TZNAME:CEST
DTSTART:20250330T010000
END:DAYLIGHT
BEGIN:STANDARD
TZOFFSETFROM:+0200
TZOFFSETTO:+0100
TZNAME:CET
DTSTART:20251026T010000
END:STANDARD
BEGIN:DAYLIGHT
TZOFFSETFROM:+0100
TZOFFSETTO:+0200
TZNAME:CEST
DTSTART:20260329T010000
END:DAYLIGHT
BEGIN:STANDARD
TZOFFSETFROM:+0200
TZOFFSETTO:+0100
TZNAME:CET
DTSTART:20261025T010000
END:STANDARD
END:VTIMEZONE
BEGIN:VEVENT
DTSTART;TZID=Europe/Sarajevo:20250225T093000
DTEND;TZID=Europe/Sarajevo:20250227T143000
DTSTAMP:20260422T015046
CREATED:20250128T124924Z
LAST-MODIFIED:20250128T124924Z
UID:3927-1740475800-1740666600@rs.cest.gov.ba
SUMMARY:Međunarodna saradnja\, uzajamna pravna pomoć i ekstradicija u predmetima pranja novca i finansiranja terorizma
DESCRIPTION:Centar za edukaciju sudija i javnih tužilaca RS\, u saradnji sa Centrom za edukaciju sudija i tužilaca FBiH\, a uz podršku Kancelarije Ujedinjenih nacija za drogu i kriminal (UNODC) u okviru Projekta pripreme suda za borbu protiv pranja novca i finansiranja terorizma u BiH\, organizuje seminar iz krivičnopravne oblasti na temu: “Međunarodna saradnja\, uzajamna pravna pomoć i ekstradicija u predmetima pranja novca i finansiranja terorizma”. Seminar će se održati od 25-27.februara 2025. godine u okolini Sarajeva (lokacija će biti naknadno potvrđena). \nProjekat ima za cilj pomoći nadležnim organima BiH za borbu protiv pranja novca i finansiranja terorizma da razbiju organizovane kriminalne grupe\, teroriste i terorističke mreže kroz jačanje kapaciteta sudija i tužilaca da efikasnije istražuju\, krivično gone i sude u predmetima pranja novca i finansiranja terorizma\, Čvrsta strategija borbe protiv pranja novca i finansiranja terorizma zahtjeva snažan pravni sektor koji će pomoći u istrazi\, krivičnom gonjenju\, osudi i ometanju organizovanih kriminalnih grupa\, terorista i terorističkih mreža.
URL:https://rs.cest.gov.ba/event/medjunarodna-saradnja-uzajamna-pravna-pomoc-i-ekstradicija-u-predmetima-pranja-novca-i-finansiranja-terorizma/
LOCATION:Sarajevo
CATEGORIES:Krivičnopravna oblast
END:VEVENT
END:VCALENDAR