BEGIN:VCALENDAR
VERSION:2.0
PRODID:-//Javna ustanova Centar za edukaciju sudija i tužilaca u Republici Srpskoj - ECPv6.15.20//NONSGML v1.0//EN
CALSCALE:GREGORIAN
METHOD:PUBLISH
X-ORIGINAL-URL:https://rs.cest.gov.ba
X-WR-CALDESC:Events for Javna ustanova Centar za edukaciju sudija i tužilaca u Republici Srpskoj
REFRESH-INTERVAL;VALUE=DURATION:PT1H
X-Robots-Tag:noindex
X-PUBLISHED-TTL:PT1H
BEGIN:VTIMEZONE
TZID:Europe/Sarajevo
BEGIN:DAYLIGHT
TZOFFSETFROM:+0100
TZOFFSETTO:+0200
TZNAME:CEST
DTSTART:20240331T010000
END:DAYLIGHT
BEGIN:STANDARD
TZOFFSETFROM:+0200
TZOFFSETTO:+0100
TZNAME:CET
DTSTART:20241027T010000
END:STANDARD
BEGIN:DAYLIGHT
TZOFFSETFROM:+0100
TZOFFSETTO:+0200
TZNAME:CEST
DTSTART:20250330T010000
END:DAYLIGHT
BEGIN:STANDARD
TZOFFSETFROM:+0200
TZOFFSETTO:+0100
TZNAME:CET
DTSTART:20251026T010000
END:STANDARD
BEGIN:DAYLIGHT
TZOFFSETFROM:+0100
TZOFFSETTO:+0200
TZNAME:CEST
DTSTART:20260329T010000
END:DAYLIGHT
BEGIN:STANDARD
TZOFFSETFROM:+0200
TZOFFSETTO:+0100
TZNAME:CET
DTSTART:20261025T010000
END:STANDARD
END:VTIMEZONE
BEGIN:VEVENT
DTSTART;TZID=Europe/Sarajevo:20250218T093000
DTEND;TZID=Europe/Sarajevo:20250218T153000
DTSTAMP:20260422T033357
CREATED:20250128T124054Z
LAST-MODIFIED:20250128T124054Z
UID:3925-1739871000-1739892600@rs.cest.gov.ba
SUMMARY:Prepoznavanje i procesuiranje digitalnog nasilja nad ženama
DESCRIPTION:Na osnovu Programa stručnog usavršavanja i početne obuke za 2025. godinu\, Centar za edukaciju sudija i javnih tužilaca u Republici Srpskoj\, u saradnji sa Fondacijom Udružene žene Banja Luka\, organizuje seminar iz krivičnopravne oblasti na temu: „Prepoznavanje i procesuiranje digitalnog nasilja nad ženama“\, koji će se održati 18. februara 2025. godine u hotelu “Jelena”\, Banja Luka. \nIzlagači: Samra Bašić Šuškić\, ekspertica u oblasti nasilja u porodici i nasilja nad ženama\, Olivije Zimonja\, načelnik Odjeljenja za visokotehnološki kriminalitet Ministarstva unutrašnjih poslova Republike Srpske i Bojana Lazarević\, okružna javna tužiteljica\, Okružno javno tužilaštvo\, Bijeljina. \nDnevni red: \n09:30 – 10:00   Registracija učesnika i uvodne napomene i pozdravni govor organizatorica \n09:30 – 10:15    Međunarodni pravni okvir  – Opšta preporuka br. 1 GREVIO-a o digitalnoj dimenziji nasilja nad ženama \n10:15 – 11:00     Domaći pravni okvir i Pregled trenutnih zakona Republici Srpskoj \n11:00 – 11:30    Pauza za kafu \n11:30 – 12:15     Otkrivanje\, saznanja  i dokazivanje  krivičnih djela nasilja nad ženama sa digitalnom dimenzijom \n12:15 – 13:00    Međunarodna saradnja i iskustva Ministarstva unutrašnjih poslova u kontekstu visoktehnološkog kriminala \n13:00 – 14:00   Ručak \n14:00 – 14:45    Procesuiranje krivičnih djela nasilja nad ženama u kojima su korištene informaciono – komunikacione  tehnologije – iskustva i izazovi pravosuđa \n14:45 – 15:30    Diskusija\, zaključci i preporuke
URL:https://rs.cest.gov.ba/event/prepoznavanje-i-procesuiranje-digitalnog-nasilja-nad-zenama/
LOCATION:Banja Luka
CATEGORIES:Krivičnopravna oblast
END:VEVENT
END:VCALENDAR