BEGIN:VCALENDAR
VERSION:2.0
PRODID:-//Javna ustanova Centar za edukaciju sudija i tužilaca u Republici Srpskoj - ECPv6.15.20//NONSGML v1.0//EN
CALSCALE:GREGORIAN
METHOD:PUBLISH
X-ORIGINAL-URL:https://rs.cest.gov.ba
X-WR-CALDESC:Events for Javna ustanova Centar za edukaciju sudija i tužilaca u Republici Srpskoj
REFRESH-INTERVAL;VALUE=DURATION:PT1H
X-Robots-Tag:noindex
X-PUBLISHED-TTL:PT1H
BEGIN:VTIMEZONE
TZID:Europe/Sarajevo
BEGIN:DAYLIGHT
TZOFFSETFROM:+0100
TZOFFSETTO:+0200
TZNAME:CEST
DTSTART:20240331T010000
END:DAYLIGHT
BEGIN:STANDARD
TZOFFSETFROM:+0200
TZOFFSETTO:+0100
TZNAME:CET
DTSTART:20241027T010000
END:STANDARD
BEGIN:DAYLIGHT
TZOFFSETFROM:+0100
TZOFFSETTO:+0200
TZNAME:CEST
DTSTART:20250330T010000
END:DAYLIGHT
BEGIN:STANDARD
TZOFFSETFROM:+0200
TZOFFSETTO:+0100
TZNAME:CET
DTSTART:20251026T010000
END:STANDARD
BEGIN:DAYLIGHT
TZOFFSETFROM:+0100
TZOFFSETTO:+0200
TZNAME:CEST
DTSTART:20260329T010000
END:DAYLIGHT
BEGIN:STANDARD
TZOFFSETFROM:+0200
TZOFFSETTO:+0100
TZNAME:CET
DTSTART:20261025T010000
END:STANDARD
END:VTIMEZONE
BEGIN:VEVENT
DTSTART;TZID=Europe/Sarajevo:20250128T120000
DTEND;TZID=Europe/Sarajevo:20250128T150000
DTSTAMP:20260422T033945
CREATED:20250128T110821Z
LAST-MODIFIED:20250128T121135Z
UID:3917-1738065600-1738076400@rs.cest.gov.ba
SUMMARY:Predstavljanje publikacije "Analiza prakse tužilaštava BiH u predmetima organizovanog kriminala i korupcije"
DESCRIPTION:U skladu sa Programom početne obuke i programom stručnog usavršavanja\, Centar za edukaciju sudija i tužilaca u FBiH i Centar za edukaiiju sudija i javnih tužilaca u RS za 2025. godinu u saradnji sa AIRE centrom i Ustavnim sudom BiH\, u utorak 28. januara 2025. godine organizuju predstavljanje publikacije \,Analiza prakse tužilaštva Bosne i Hercegovine u predmetima organizovanog kriminala i korupcije“. Promocija će se održatii u prostorijama Okružnog i javnog tužilaštva u Bijljini sa početkom u 12 sati.\nIzlagači su: Zlatko M. Knežević\, sudija Ustavnog suda Bosne i Hercegovine u penzijі i i konsultant na projektima AIRE centra\, Samir Selimović tužilac Kantonalnog tužilaštva Kantona Sarajevo\, Martina Raguž\, projektna menadžerica AIRE centra i Zvonko Mijan\, konsultant na projektima AIRE centra. \nDnevni red: \n12.00 – 12.10   Pozdravne riječi \n12.10 – 12.45    Uvod u Analizu prakse tužilaštava Bosne i Hercegovine u predmetima organizovanog kriminala i korupcije i metodologija rada \n12.45 – 13.30    Međusobni odnos tužilačkog postupanja i sudskih odluka (naredbe\, pritvor\, vještačenja) \n13.30 – 13.50    Pauza za kafu \n13.50-14.35       Potrebne radnje za tužilačko postupanje u istrazi (vještačenja\, finansijska  istraga\, posebne istražne radnje) \n14.35-15.15        Zaključci i diskusija \nŠta je nužno u promjeni zakona i institucionalnoj promjeni (centri za vještačenja\, finansijska vještačenja\, poreska saradnja)
URL:https://rs.cest.gov.ba/event/predstavljanje-publikacije-analiza-prakse-tuzilastava-bih-u-predmetima-organizovanog-kriminala-i-korupcije/
LOCATION:Bijeljina
CATEGORIES:Krivičnopravna oblast
END:VEVENT
END:VCALENDAR