BEGIN:VCALENDAR
VERSION:2.0
PRODID:-//Javna ustanova Centar za edukaciju sudija i tužilaca u Republici Srpskoj - ECPv6.15.20//NONSGML v1.0//EN
CALSCALE:GREGORIAN
METHOD:PUBLISH
X-WR-CALNAME:Javna ustanova Centar za edukaciju sudija i tužilaca u Republici Srpskoj
X-ORIGINAL-URL:https://rs.cest.gov.ba
X-WR-CALDESC:Events for Javna ustanova Centar za edukaciju sudija i tužilaca u Republici Srpskoj
REFRESH-INTERVAL;VALUE=DURATION:PT1H
X-Robots-Tag:noindex
X-PUBLISHED-TTL:PT1H
BEGIN:VTIMEZONE
TZID:Europe/Sarajevo
BEGIN:DAYLIGHT
TZOFFSETFROM:+0100
TZOFFSETTO:+0200
TZNAME:CEST
DTSTART:20230326T010000
END:DAYLIGHT
BEGIN:STANDARD
TZOFFSETFROM:+0200
TZOFFSETTO:+0100
TZNAME:CET
DTSTART:20231029T010000
END:STANDARD
BEGIN:DAYLIGHT
TZOFFSETFROM:+0100
TZOFFSETTO:+0200
TZNAME:CEST
DTSTART:20240331T010000
END:DAYLIGHT
BEGIN:STANDARD
TZOFFSETFROM:+0200
TZOFFSETTO:+0100
TZNAME:CET
DTSTART:20241027T010000
END:STANDARD
BEGIN:DAYLIGHT
TZOFFSETFROM:+0100
TZOFFSETTO:+0200
TZNAME:CEST
DTSTART:20250330T010000
END:DAYLIGHT
BEGIN:STANDARD
TZOFFSETFROM:+0200
TZOFFSETTO:+0100
TZNAME:CET
DTSTART:20251026T010000
END:STANDARD
END:VTIMEZONE
BEGIN:VEVENT
DTSTART;TZID=Europe/Sarajevo:20241220T100000
DTEND;TZID=Europe/Sarajevo:20241220T150000
DTSTAMP:20260422T050640
CREATED:20241125T120206Z
LAST-MODIFIED:20241125T120308Z
UID:3761-1734688800-1734706800@rs.cest.gov.ba
SUMMARY:Aktuelna praksa Vrhovnog suda RS iz krivičnopravne oblasti
DESCRIPTION:Izlagač: Svetlana Marić\, sudija Vrhovnog suda Republike Srpske \nDnevni red: \n10.00 – 10.30      Registracija učesnika \n10.30 – 12.00      Aktuelna pitanja iz prakse- I dio \n12.00 – 12.30      Pauza \n12.30 – 14.00      Aktuelna pitanja iz prakse- II dio \n14.00  – 15.00      Diskusija\, rezime\, evaluacija
URL:https://rs.cest.gov.ba/event/%d0%b0%d0%ba%d1%82%d1%83%d0%b5%d0%bb%d0%bd%d0%b0-%d0%bf%d1%80%d0%b0%d0%ba%d1%81%d0%b0-%d0%b2%d1%80%d1%85%d0%be%d0%b2%d0%bd%d0%be%d0%b3-%d1%81%d1%83%d0%b4%d0%b0-%d1%80%d1%81-%d0%b8%d0%b7-%d0%ba%d1%80/
LOCATION:Banja Luka
CATEGORIES:Krivičnopravna oblast
END:VEVENT
END:VCALENDAR