BEGIN:VCALENDAR
VERSION:2.0
PRODID:-//Javna ustanova Centar za edukaciju sudija i tužilaca u Republici Srpskoj - ECPv6.15.20//NONSGML v1.0//EN
CALSCALE:GREGORIAN
METHOD:PUBLISH
X-WR-CALNAME:Javna ustanova Centar za edukaciju sudija i tužilaca u Republici Srpskoj
X-ORIGINAL-URL:https://rs.cest.gov.ba
X-WR-CALDESC:Events for Javna ustanova Centar za edukaciju sudija i tužilaca u Republici Srpskoj
REFRESH-INTERVAL;VALUE=DURATION:PT1H
X-Robots-Tag:noindex
X-PUBLISHED-TTL:PT1H
BEGIN:VTIMEZONE
TZID:Europe/Sarajevo
BEGIN:DAYLIGHT
TZOFFSETFROM:+0100
TZOFFSETTO:+0200
TZNAME:CEST
DTSTART:20230326T010000
END:DAYLIGHT
BEGIN:STANDARD
TZOFFSETFROM:+0200
TZOFFSETTO:+0100
TZNAME:CET
DTSTART:20231029T010000
END:STANDARD
BEGIN:DAYLIGHT
TZOFFSETFROM:+0100
TZOFFSETTO:+0200
TZNAME:CEST
DTSTART:20240331T010000
END:DAYLIGHT
BEGIN:STANDARD
TZOFFSETFROM:+0200
TZOFFSETTO:+0100
TZNAME:CET
DTSTART:20241027T010000
END:STANDARD
BEGIN:DAYLIGHT
TZOFFSETFROM:+0100
TZOFFSETTO:+0200
TZNAME:CEST
DTSTART:20250330T010000
END:DAYLIGHT
BEGIN:STANDARD
TZOFFSETFROM:+0200
TZOFFSETTO:+0100
TZNAME:CET
DTSTART:20251026T010000
END:STANDARD
END:VTIMEZONE
BEGIN:VEVENT
DTSTART;TZID=Europe/Sarajevo:20241209T090000
DTEND;TZID=Europe/Sarajevo:20241211T150000
DTSTAMP:20260422T051536
CREATED:20241104T123516Z
LAST-MODIFIED:20241118T104217Z
UID:3623-1733734800-1733929200@rs.cest.gov.ba
SUMMARY:Pranje novca i finasiranje terorizma
DESCRIPTION:Izlagači: g. Nicole Voorhuis\, holandski sudija u penziji i g. Ćazim Hasanspahić\, tužilac Tužilaštva BiH \nCentar za edukaciju sudija i javnih tužilaca u Republici Srpskoj\, u saradnji sa Centrom za edukaciju sudija i tužilaca Federacije Bosne i Hercegovine\, a uz podršku Kancelarije Ujedinjenih nacija za drogu i kriminal (UNODC) u okviru Projekta pripreme suda za borbu protiv pranja novca i finasiranja terorizma u BiH \, organizuje seminar iz krivičnopravne oblasti na temu:\n„Pranje novca i finasiranje terorizma-tehnike istrage i zastupanja tužilaštva\, uključujući podizanje sudijske svijesti “\, koji će se održati od 9. do 11. decembra 2024. godine na Igmanu\, hotel “Monti”.\nDnevni red: \nponedjeljak\, 9. decembar \n08:45 – 09:00    Registracija učesnika \n09:00 – 10:00    Pozdravne riječi i uvod u kurs \n10:00 – 11:00      Priprema predmeta – konceptualni okvir \n11:00 – 11:30       Pauza za kafu \n11:30 – 12:30       Izrada teorije predmeta \n12:30 – 13:30       Ručak \n13:30 – 14:30       Prag\, pouzdanost i djelotvornost dokaza \n14:30 – 14:45       Pauza za kafu \n14:45 – 16:00      Skriveno bankarstvo\, korištenje dokaza \nutorak\, 10 decembar \n09:00 –09:10     Pregled dana i uvod \n09:10 – 10:00     Pravo na ispitivanje svjedoka\, načelo neposrednosti \n10:00 – 11:00     Vježba – Pravo na (unakrsno) ispitivanje svjedoka \n11:00 – 11:30      Pauza za kafu \n11:30 – 12:30      Prihvatljivost dokaza i posljedice nezakonito pribavljenih dokaza \n12:30 – 13:30     Ručak \n13:30 – 14:30     Finansijska istraga kao važan alat u borbi protiv finansiranja terorizma \n14:30 – 14:45     Pauza za kafu \n14:45 – 16:00     Platforme i međuagencijska saradnja u borbi protiv finansiranja terorizma \nsrijeda\, 11. decembar \n09:00 – 09:10    Pregled dana i uvod \n09:10 – 10:00    Oduzimanje\, izračunavanje imovine stečene krivičnim djelom\, trajno oduzimanje\, mješovita imovina \n10:00 – 10:45    Pauza za kafu \n10:45 – 11:30     Izračunavanje imovine stečene krivičnim djelom \n11:30 – 12:30     Izračunavanje imovine stečene krivičnim djelom \n12:30 – 13:30     Ručak \n13:30 – 15:00     Rezime\, otvorena diskusija\, evaluacija i završetak kursa
URL:https://rs.cest.gov.ba/event/pranje-novca-i-finasiranje-terorizma/
LOCATION:Igman
CATEGORIES:Krivičnopravna oblast
END:VEVENT
BEGIN:VEVENT
DTSTART;TZID=Europe/Sarajevo:20241209T100000
DTEND;TZID=Europe/Sarajevo:20241209T140000
DTSTAMP:20260422T051536
CREATED:20241028T135411Z
LAST-MODIFIED:20241028T135411Z
UID:3590-1733738400-1733752800@rs.cest.gov.ba
SUMMARY:Pokretanje i otvaranje stečajnog postupka
DESCRIPTION:Izlagač: Nedeljko Milijević\, sudija u penziji
URL:https://rs.cest.gov.ba/event/pokretanje-i-otvaranje-stecajnog-postupka/
LOCATION:Banja Luka
CATEGORIES:Privrednopravna oblast
END:VEVENT
BEGIN:VEVENT
DTSTART;TZID=Europe/Sarajevo:20241209T100000
DTEND;TZID=Europe/Sarajevo:20241209T140000
DTSTAMP:20260422T051536
CREATED:20241106T114724Z
LAST-MODIFIED:20241106T114724Z
UID:3678-1733738400-1733752800@rs.cest.gov.ba
SUMMARY:Sudska praksa i standardi Evropskog suda za ljudska prava u slučajevima nasilja u porodici
DESCRIPTION:Izlagač: prof. dr Dijana Savić Božić
URL:https://rs.cest.gov.ba/event/sudska-praksa-i-standardi-evropskog-suda-za-ljudska-prava-u-slucajevima-nasilja-u-porodici/
LOCATION:Banja Luka
CATEGORIES:Posebne teme
END:VEVENT
BEGIN:VEVENT
DTSTART;TZID=Europe/Sarajevo:20241209T100000
DTEND;TZID=Europe/Sarajevo:20241210T140000
DTSTAMP:20260422T051536
CREATED:20241106T115133Z
LAST-MODIFIED:20241202T135122Z
UID:3680-1733738400-1733839200@rs.cest.gov.ba
SUMMARY:Sudijska i tužilačka etika i disciplinska praksa
DESCRIPTION:Izlagači: Aleksandra Martinović\, predsjednica Ustavnog suda Federacije BiH\, Aldijana Porča\, disciplinska tužiteljica\, Kancelarija disciplinskog tužioca Visokog sudskog i tužilačkog savjeta BiH i mr Dragoslav Erdelić\, sudija Okružnog suda u Bijeljini \nDnevni red: \n9:00 – 09:30       Registracija učesnika / Kafa dobrodošlice \n09:30 – 09:45     Uvodne riječi \n09:45 – 11:15        1. sesija: Neovisnost i nepristrasnost nosilaca pravosudnih funkcija u svjetlu međunarodnih standarda i prakse Evropskog suda za ljudska prava \n\nKoncepti nezavisnosti\, integriteta i odgovornosti nosilaca pravosudnih funkcija\n\n11:15 – 12:15          2. sesija: Domaći normativni okvir i praksa postupanja disciplinskih komisija u disciplinskim predmetima protiv sudija i tužilaca \n\nKodeksi sudijske i tužilačke etike\nPraksa disciplinskih komisija\n\n12:15 – 12:30          Pauza za kafu \n12:30 – 14:00         3. sesija: Ključni izazovi u utvrđivanju disciplinske odgovornosti nosilaca pravosudnih funkcija u BiH \n\nStručnost i odgovornost prema poslu: iskazivanje radnih rezultata; kašnjenje pri poduzimanju radnji u predmetima\nIntegritet i dolično ponašanje: korištenje društvenih mreža i istupanje u javnosti; potencijalni i percipirani sukob interesa u privatnoj komunikciji\nNespojive i dodatne aktivnosti; Izuzeće\nAmandmani na Zakon o VSTV-u (integritet)\nDiskusija o odabranim slučajevima iz prakse/hipotetičkim slučajevima\n\n14:00 – 14:30         Diskusija\, zaključna razmatranja i evaluacija obuke \n14:30 – 15:30          Ručak
URL:https://rs.cest.gov.ba/event/sudijska-i-tuzilacka-etika-i-disciplinska-praksa/
LOCATION:Sarajevo
CATEGORIES:Posebne teme
END:VEVENT
END:VCALENDAR