BEGIN:VCALENDAR
VERSION:2.0
PRODID:-//Javna ustanova Centar za edukaciju sudija i tužilaca u Republici Srpskoj - ECPv6.15.20//NONSGML v1.0//EN
CALSCALE:GREGORIAN
METHOD:PUBLISH
X-WR-CALNAME:Javna ustanova Centar za edukaciju sudija i tužilaca u Republici Srpskoj
X-ORIGINAL-URL:https://rs.cest.gov.ba
X-WR-CALDESC:Events for Javna ustanova Centar za edukaciju sudija i tužilaca u Republici Srpskoj
REFRESH-INTERVAL;VALUE=DURATION:PT1H
X-Robots-Tag:noindex
X-PUBLISHED-TTL:PT1H
BEGIN:VTIMEZONE
TZID:Europe/Sarajevo
BEGIN:DAYLIGHT
TZOFFSETFROM:+0100
TZOFFSETTO:+0200
TZNAME:CEST
DTSTART:20230326T010000
END:DAYLIGHT
BEGIN:STANDARD
TZOFFSETFROM:+0200
TZOFFSETTO:+0100
TZNAME:CET
DTSTART:20231029T010000
END:STANDARD
BEGIN:DAYLIGHT
TZOFFSETFROM:+0100
TZOFFSETTO:+0200
TZNAME:CEST
DTSTART:20240331T010000
END:DAYLIGHT
BEGIN:STANDARD
TZOFFSETFROM:+0200
TZOFFSETTO:+0100
TZNAME:CET
DTSTART:20241027T010000
END:STANDARD
BEGIN:DAYLIGHT
TZOFFSETFROM:+0100
TZOFFSETTO:+0200
TZNAME:CEST
DTSTART:20250330T010000
END:DAYLIGHT
BEGIN:STANDARD
TZOFFSETFROM:+0200
TZOFFSETTO:+0100
TZNAME:CET
DTSTART:20251026T010000
END:STANDARD
END:VTIMEZONE
BEGIN:VEVENT
DTSTART;TZID=Europe/Sarajevo:20241206T100000
DTEND;TZID=Europe/Sarajevo:20241206T150000
DTSTAMP:20260422T050640
CREATED:20241118T105724Z
LAST-MODIFIED:20241126T105411Z
UID:3750-1733479200-1733497200@rs.cest.gov.ba
SUMMARY:Izazovi odlučivanja o starateljstvu u slučajevima nasilja u porodici- preporuke GREVIO komiteta
DESCRIPTION:U okviru Programa stručnog usavršavanja i početne obuke za 2024. godinu\, Centar za edukaciju sudija i javnih tužilaca u Republici Srpskoj\, u saradnji sa Gender Centrom Vlade Republike Srpske\, a uz podršku projekta „EU za sovijalnu inkluziju u BiH“\, organizuje seminar iz građanskopravne oblasti\, na temu: „Izazovi odlučivanja o starateljstvu u slučajevima nasilja u porodici- preporuke GREVIO komiteta“ koji će se održati 06.12.2024. godine\, u hotelu Jelena\, ul. Jovana Dučića 25\, Banja Luka.\nIzlagač: gdin Adnan Kadribašić\, viši stručnjak za ljudska prava/ voditelj tima EU4HR. \nDnevni red: \n10:30 – 11:15    Modul 1: Uvod u nasilje u porodici i njegov uticaj na starateljske odluke \n– Nasilje u porodici: pojmovno određenje \n– Uloga sudova u zaštiti djece i ne-nasilnog roditelja \n11:15 – 11:30     Kafe pauza \n11:30 – 12:15     Modul 2: Međunarodni standardi i najbolja praksa \n– Pregled Istanbulske konvencije i Člana 31. \n– Relevantni slučajevi i preporuke GREVIO i Evropskog suda za ljudska prava \n12:15 – 13:00    Modul 3: Procjena i upravljanje rizicima u starateljskim predmetima \n– Praktične smjernice za procjenu rizika za djecu i ne-nasilnog roditelja \n– Primjeri multi-agencijskih modela za visokorizične slučajeve \n13:00 – 14:00   Pauza za ručak \n14:00 – 15:30   Modul 5: Sudske najbolje prakse za rješavanje visokorizičnih slučajeva \n– Praktične preporuke za donošenje odluka koje prioritetiziraju sigurnost djece i roditelja \n– Praktična vježba: analiza studije slučaja i donošenje odluka \n15:30 – 15:45    Evaluacija i zaključci \n– Povratne informacije učesnika \n– Zaključak i dodjela materijala sa smjernicama i resursima
URL:https://rs.cest.gov.ba/event/izazovi-odlucivanja-o-starateljstvu-u-slucajevima-nasilja-u-porodici-preporuke-grevio-komiteta/
LOCATION:Banja Luka
CATEGORIES:Građanskopravna oblast
END:VEVENT
END:VCALENDAR