BEGIN:VCALENDAR
VERSION:2.0
PRODID:-//Javna ustanova Centar za edukaciju sudija i tužilaca u Republici Srpskoj - ECPv6.15.20//NONSGML v1.0//EN
CALSCALE:GREGORIAN
METHOD:PUBLISH
X-ORIGINAL-URL:https://rs.cest.gov.ba
X-WR-CALDESC:Events for Javna ustanova Centar za edukaciju sudija i tužilaca u Republici Srpskoj
REFRESH-INTERVAL;VALUE=DURATION:PT1H
X-Robots-Tag:noindex
X-PUBLISHED-TTL:PT1H
BEGIN:VTIMEZONE
TZID:Europe/Sarajevo
BEGIN:DAYLIGHT
TZOFFSETFROM:+0100
TZOFFSETTO:+0200
TZNAME:CEST
DTSTART:20230326T010000
END:DAYLIGHT
BEGIN:STANDARD
TZOFFSETFROM:+0200
TZOFFSETTO:+0100
TZNAME:CET
DTSTART:20231029T010000
END:STANDARD
BEGIN:DAYLIGHT
TZOFFSETFROM:+0100
TZOFFSETTO:+0200
TZNAME:CEST
DTSTART:20240331T010000
END:DAYLIGHT
BEGIN:STANDARD
TZOFFSETFROM:+0200
TZOFFSETTO:+0100
TZNAME:CET
DTSTART:20241027T010000
END:STANDARD
BEGIN:DAYLIGHT
TZOFFSETFROM:+0100
TZOFFSETTO:+0200
TZNAME:CEST
DTSTART:20250330T010000
END:DAYLIGHT
BEGIN:STANDARD
TZOFFSETFROM:+0200
TZOFFSETTO:+0100
TZNAME:CET
DTSTART:20251026T010000
END:STANDARD
END:VTIMEZONE
BEGIN:VEVENT
DTSTART;TZID=Europe/Sarajevo:20241111T100000
DTEND;TZID=Europe/Sarajevo:20241112T170000
DTSTAMP:20260422T033356
CREATED:20241002T095302Z
LAST-MODIFIED:20241105T104617Z
UID:3461-1731319200-1731430800@rs.cest.gov.ba
SUMMARY:Obrazloženje krivične presude
DESCRIPTION:Izlagači: Emir Neradin i dr Ljiljana Filipović \nDnevni red: \n11.novembar \n09:00 – 09:20    Registracija učesnika  \n09:20 – 09:50    Otvaranje seminara; obraćanje predstavnika Centara\, Ulazni test \n09:40 – 10:40    Upoznavanje sa presudama koje će se analizirati \n10:40 – 11:40     Osnovna pravila o formi presude i zahtjevi na koje presuda treba odgovoriti \n11:40 – 12:00     Pauza za kafu \n12:00 – 13:00    Obavezan sadržaj izreke presude sa primjerima iz prakse \n13:00 – 14:00    Ručak \n14:00 – 15:00    Obrazloženje presude sa primjerima iz prakse\, uključujući sentence \n15:00 – 15:15     Pauza za kafu \n15:15– 16:00     Diskusija o izradi presude \n19.00                  Večera \n12.novembar \n09:00 – 10:30   Praktični rad – Analiza pismeno izrađenih presuda   \n10:30 – 11:00    Pauza za kafu \n11.00 – 12:00    Standardi obrazložene presude prema Evropskoj konvenciji o ljudskim pravima (uključujući i pritvor) \n12:00 – 12:30    Izlazni test i ispravke \n12:30 – 12:45    Evaluacija i zatvaranje \n12:45                   Ručak
URL:https://rs.cest.gov.ba/event/obrazlozenje-krivicne-presude/
CATEGORIES:Krivičnopravna oblast
END:VEVENT
END:VCALENDAR