BEGIN:VCALENDAR
VERSION:2.0
PRODID:-//Javna ustanova Centar za edukaciju sudija i tužilaca u Republici Srpskoj - ECPv6.15.20//NONSGML v1.0//EN
CALSCALE:GREGORIAN
METHOD:PUBLISH
X-ORIGINAL-URL:https://rs.cest.gov.ba
X-WR-CALDESC:Events for Javna ustanova Centar za edukaciju sudija i tužilaca u Republici Srpskoj
REFRESH-INTERVAL;VALUE=DURATION:PT1H
X-Robots-Tag:noindex
X-PUBLISHED-TTL:PT1H
BEGIN:VTIMEZONE
TZID:Europe/Sarajevo
BEGIN:DAYLIGHT
TZOFFSETFROM:+0100
TZOFFSETTO:+0200
TZNAME:CEST
DTSTART:20230326T010000
END:DAYLIGHT
BEGIN:STANDARD
TZOFFSETFROM:+0200
TZOFFSETTO:+0100
TZNAME:CET
DTSTART:20231029T010000
END:STANDARD
BEGIN:DAYLIGHT
TZOFFSETFROM:+0100
TZOFFSETTO:+0200
TZNAME:CEST
DTSTART:20240331T010000
END:DAYLIGHT
BEGIN:STANDARD
TZOFFSETFROM:+0200
TZOFFSETTO:+0100
TZNAME:CET
DTSTART:20241027T010000
END:STANDARD
BEGIN:DAYLIGHT
TZOFFSETFROM:+0100
TZOFFSETTO:+0200
TZNAME:CEST
DTSTART:20250330T010000
END:DAYLIGHT
BEGIN:STANDARD
TZOFFSETFROM:+0200
TZOFFSETTO:+0100
TZNAME:CET
DTSTART:20251026T010000
END:STANDARD
END:VTIMEZONE
BEGIN:VEVENT
DTSTART;TZID=Europe/Sarajevo:20241021T100000
DTEND;TZID=Europe/Sarajevo:20241022T140000
DTSTAMP:20260422T015742
CREATED:20240920T123103Z
LAST-MODIFIED:20241011T091308Z
UID:3352-1729504800-1729605600@rs.cest.gov.ba
SUMMARY:Ujednačavanje sudske prakse u prekršajnim predmetima okružnih sudova u RS
DESCRIPTION:Izlagači: Duško Miloica i mr Dragoslav Erdelić \nDnevni red: \nPonedjeljak\, 21. oktobar 2024. godine \n10:00 – 10:30 Registracija učesnika i otvaranje okruglog stola\n10:30 – 11:30 Izvršenje prekršajne sankcije – Zamjena novčane kazne u kaznu zatovra\n11:30 – 12:00 Kaznena politika sudovva- različita praksa (olakšavajuće i otežavajuće okolnosti)\n12:00 – 12:30 Pauza\n12:30 – 13:30 Nasilje u porodici (različita praksa sudova)\n13:30 – 14:00 Odgovori na pitanja proizašla iz prethodnih diskusija i druga pitanja pristigla od nosilaca pravosudne funkcije\n14:00 – Završetak prvog dana okruglog stola \nUtorak\, 22. oktobar 2024. godine \n10:00 – 10:30 Registracija učesnika i rekapitulacija prethodog dana okruglog stola\n10:30 – 11:30 Donošenje odluke u odsustvu okrivljenog\n11:30 – 12:00 Činjenični opis prekršaja u prekršajnom nalogu\n12:00 – 12:30 Pauza\n12:30 – 13:30 Nasilje u porodici (različita praksa sudova)\n13:30 – 14:00 -Lično ne/dostavljanje prekršajnog naloga i posljedice\n-Prekoračenje brzine i utvrđivanje činjeničnog stanja\n-Ocjena dokaza\n-Prekršaji iz oblasti Zakona o javnom redu i miru-buk u ugostiteljskim objektima\n14:00 – 14:30 Zaključci i evaluadžija
URL:https://rs.cest.gov.ba/event/ujednacavanje-sudske-prakse-u-prekrsajnim-predmetima-okruznih-sudova-u-rs/
LOCATION:Banja Luka
CATEGORIES:Prekršajnopravna oblast
END:VEVENT
END:VCALENDAR