BEGIN:VCALENDAR
VERSION:2.0
PRODID:-//Javna ustanova Centar za edukaciju sudija i tužilaca u Republici Srpskoj - ECPv6.15.20//NONSGML v1.0//EN
CALSCALE:GREGORIAN
METHOD:PUBLISH
X-WR-CALNAME:Javna ustanova Centar za edukaciju sudija i tužilaca u Republici Srpskoj
X-ORIGINAL-URL:https://rs.cest.gov.ba
X-WR-CALDESC:Events for Javna ustanova Centar za edukaciju sudija i tužilaca u Republici Srpskoj
REFRESH-INTERVAL;VALUE=DURATION:PT1H
X-Robots-Tag:noindex
X-PUBLISHED-TTL:PT1H
BEGIN:VTIMEZONE
TZID:Europe/Sarajevo
BEGIN:DAYLIGHT
TZOFFSETFROM:+0100
TZOFFSETTO:+0200
TZNAME:CEST
DTSTART:20230326T010000
END:DAYLIGHT
BEGIN:STANDARD
TZOFFSETFROM:+0200
TZOFFSETTO:+0100
TZNAME:CET
DTSTART:20231029T010000
END:STANDARD
BEGIN:DAYLIGHT
TZOFFSETFROM:+0100
TZOFFSETTO:+0200
TZNAME:CEST
DTSTART:20240331T010000
END:DAYLIGHT
BEGIN:STANDARD
TZOFFSETFROM:+0200
TZOFFSETTO:+0100
TZNAME:CET
DTSTART:20241027T010000
END:STANDARD
BEGIN:DAYLIGHT
TZOFFSETFROM:+0100
TZOFFSETTO:+0200
TZNAME:CEST
DTSTART:20250330T010000
END:DAYLIGHT
BEGIN:STANDARD
TZOFFSETFROM:+0200
TZOFFSETTO:+0100
TZNAME:CET
DTSTART:20251026T010000
END:STANDARD
END:VTIMEZONE
BEGIN:VEVENT
DTSTART;TZID=Europe/Sarajevo:20241016T100000
DTEND;TZID=Europe/Sarajevo:20241017T140000
DTSTAMP:20260422T015019
CREATED:20240930T124749Z
LAST-MODIFIED:20240930T124749Z
UID:3440-1729072800-1729173600@rs.cest.gov.ba
SUMMARY:Obuka o zabrani diskriminacije (I generacija)
DESCRIPTION:Poštovana/i\, \nCentar za edukaciju sudija i javnih tužilaca u Republici Srpskoj i Centar za edukaciju sudija i tužilaca u Federaciji Bosne i Hercegovine\, u okviru projekta Savjeta Evrope „Podrška dosljednoj nacionalnoj provedbi Evropske konvencije o ljudskim pravima i olakšavanje izvršenja presuda Evropskog suda za ljudska prava u BiH“\, organizuju nastavak edukacije iz oblasti ljudskim prava\, na temu: \n„Obuka o zabrani diskriminacije“\,16 – 17. oktobra 2024. godine\,   Sarajevo\, hotel „Ibis Styles“\, Džemala Bijedića 169a \nEdukatori će biti eksperti iz ove oblasti. \nProjekat snosi troškove smještaja učesnika za dva noćenja (15/16/17. oktobar)\, a troškove prevoza snose učesnici. \nPozivamo Vas da pisane prijave\, potpisane od predsjednika suda/glavnog tužioca\, uz naznaku da li je potrebna usluga smještaja u hotelu\, i za koje dane\, dostavite CEST-u RS\, najkasnije do 11. oktobra 2024. godine. Vaše prijave molimo da dostavite na e-mail adresu: nikola.mitrovic@rs.cest.gov.ba ili faksom na broj: 051/434-040. \nOvoj edukaciji mogu prisustvovati samo sudije i javni tužioci\, koji su\, kao novoimenovani nosioci pravosudne funkcije tokom 2022. godine (prva generacija) uspješno okončali obuke iz oblasti ljudskih prava za ovu ciljnu grupu\, realizovane na osnovu Programa stručnog usavršavanja i početne obuke CEST-a RS za 2022. godinu. \nBroj učesnika seminara je ograničen. Ukoliko Vaša prijava ne bude prihvaćena zbog ograničenog broja učesnika\, bićete o tome posebno obaviješteni. \nNapominjemo da je za pristup ovom seminaru uživo\, neophodno ispuniti preduslov\, odnosno završiti online (HELP) kurs\, na temu: \n– „Zabrana diskriminacije“: https://help.elearning.ext.coe.int/enrol/index.php?id=1738 \nTakođe\, za prisustvo na ovom seminaru\, in vivo\, potrebno je da nam dostavite sertifikat o tome da ste uspješno odslušali navedeni HELP online seminar. \nSertifikat\, koji ćete dobiti putem e- maila\, molimo da pošaljete CEST-u RS\, najkasnije do dana održavanja seminara\, na e-mail adresu: nikola.mitrovic@rs.cest.gov.ba \nPitanja i komentare možete slati na e-mail adresu: jelena.majstorovic@rs.cest.gov.ba \nDnevni red iz kojeg ćete moći bolje da se upoznate sa ovom aktivnošću\, poslaćemo naknadno\, blagovremeno. \nNAPOMENA: „Obuku o govoru mržnje i zločinu iz mržnje“ (uz prethodno odslušane odgovarajuće HELP online kurseve) planirali smo\, uživo\, održati 18-19. novembra 2024. godine\, o čemu ćemo poslati zvaničan poziv.
URL:https://rs.cest.gov.ba/event/obuka-o-zabrani-diskriminacije-i-generacija/
LOCATION:Sarajevo
CATEGORIES:Posebne teme
END:VEVENT
BEGIN:VEVENT
DTSTART;TZID=Europe/Sarajevo:20241016T103000
DTEND;TZID=Europe/Sarajevo:20241017T130000
DTSTAMP:20260422T015019
CREATED:20240913T074140Z
LAST-MODIFIED:20240913T074946Z
UID:3238-1729074600-1729170000@rs.cest.gov.ba
SUMMARY:Krivičnopravna zaštita okoliša/životne sredine
DESCRIPTION:Izlagači: dr.sc. Sandra Kobajica\, prof. Amina Nikolajev\, Petar Pavlović\,  Dušan Dakić\, Katerina Weissova \nDnevni red: \n16.10.2024. \n10.30 – 11.00 Uvodna obraćanja \n11.00 – 11.15 Početna aktivnost (upitnik) \n11.15 – 12.00 Kriminološka obilježja ekološkog kriminaliteta u BiH \n12.00 – 12.30 Razvoj ekološkog prava u Evropskoj uniji \n12.30 – 13.30 Ručak \n13.30 – 14.30 Nova direktiva o ekološkom kriminalu u Evropskoj uniji \n14.30 – 15.30 Osvrt na predmete Evropskog suda za ljudska prava u oblikovanju sudske\nprakse u oblasti zaštite okoliša/životne sredine \n15.30 – 16.00 Zaključna diskusija i rezimiranje prvog dana (*upitnik) \n17.10.2024. \n09.30 – 10.30 Evropska praksa u primjeni direktive o ekološkom kriminalu \n10.30 – 11.30 Predstavljanje hipotetičkog slučaja i njegovo rješavanje\, iz ugla sudije \n11.45 – 12.45 Predstavljanje hipotetičkog slučaja i njegovo rješavanje\, iz ugla tužioca \n12.45 – 13.00 Zaključna diskusija i rezimiranje (*izlazni upitnik) \n13:00 Ručak
URL:https://rs.cest.gov.ba/event/krivicnopravna-zastita-okolisa-zivotne-sredine-2/
LOCATION:Igman
CATEGORIES:Krivičnopravna oblast
END:VEVENT
BEGIN:VEVENT
DTSTART;TZID=Europe/Sarajevo:20241017T100000
DTEND;TZID=Europe/Sarajevo:20241017T150000
DTSTAMP:20260422T015019
CREATED:20241002T123807Z
LAST-MODIFIED:20241014T121642Z
UID:3463-1729159200-1729177200@rs.cest.gov.ba
SUMMARY:Komunikacija u sudnici - javni govor
DESCRIPTION:Izlagač: Marela Jevtović. \n09:45-10:00 \nRegistracija učesnika \n10.00-11.00 \nUvodna riječ edukatora i predstavljanje učesnika \n11.00-12.00 \nOsnove komunikacije \nVerbalne komunikacijske vještine \nNeverbalne komunikacijske vještine \n12:00 -12:30 \nPauza \n12:30 – 13:30 \nVještine slušanja \nAktivno slušanje\, nesporazumi u komunikaciji \n13:45 – 15:00 \nKarakteristike komunikacije u pravosudnim tijelima \n15:00 – 15:30 \nDiskusija\, zaključi i evaluacija seminara
URL:https://rs.cest.gov.ba/event/komunikacija-u-sudnici-javni-govor/
LOCATION:Banja Luka
CATEGORIES:Posebne teme
END:VEVENT
BEGIN:VEVENT
DTSTART;TZID=Europe/Sarajevo:20241017T100000
DTEND;TZID=Europe/Sarajevo:20241018T140000
DTSTAMP:20260422T015019
CREATED:20240930T124936Z
LAST-MODIFIED:20241009T095502Z
UID:3442-1729159200-1729260000@rs.cest.gov.ba
SUMMARY:Obuka o zabrani diskriminacije (II generacija)
DESCRIPTION:Dnevni red: \nČetvrtak\, 17. oktobar 2024. godine (09:00 – 15:00) \n09:00 – 10:30 \n\nOtvaranje Seminara\, predstavljanje učesnika i programa Seminara\nOsnovne vještine komunikacije – primjena u istražnom i sudskom postupku\n\n11:00 – 12:30 \n\nOsnovne tehnike komunikacije u radu tužilaca i sudija\nKomunikacija u situacijama intenzivnih osjećanja\n\n12:30 – 13:30 – Ručak \n13:30 – 15:00 \n\nIspitivanje djeteta u okviru istražnog i sudskog postupka\n\nPetak\, 18. oktobar 2024. godine (09:00 – 15:00) \n09:00 – 10:30 \n\nIspitivanje osoba snižene intelektualne efikasnosti u okviru istražnog i sudskog postupka\nIspitivanje osoba sa poremećajem iz autističnog spektra\n\n10:30 – 11:00 – Pauza za kafu \n11:00 – 12:30 \n\nKomunikacija sa osobama umanjenih tjelesnih mogućnosti u istražnom i sudskom postupku\nKomunikacija sa osobama iz LGBTQIA+ populacije u istražnom i sudskom postupku\n\n12:30 – 13:30 – Ručak \n13:30 – 15:00 \n\nKomunikacija sa žrtvama nasilja u istražnom i sudskom postupku\nMotivisanje za svjedočenje\nZatvaranje Seminara\n\n  \n 
URL:https://rs.cest.gov.ba/event/obuka-o-zabrani-diskriminacije-ii-generacija/
LOCATION:Sarajevo
CATEGORIES:Posebne teme
END:VEVENT
END:VCALENDAR