BEGIN:VCALENDAR
VERSION:2.0
PRODID:-//Javna ustanova Centar za edukaciju sudija i tužilaca u Republici Srpskoj - ECPv6.15.20//NONSGML v1.0//EN
CALSCALE:GREGORIAN
METHOD:PUBLISH
X-WR-CALNAME:Javna ustanova Centar za edukaciju sudija i tužilaca u Republici Srpskoj
X-ORIGINAL-URL:https://rs.cest.gov.ba
X-WR-CALDESC:Events for Javna ustanova Centar za edukaciju sudija i tužilaca u Republici Srpskoj
REFRESH-INTERVAL;VALUE=DURATION:PT1H
X-Robots-Tag:noindex
X-PUBLISHED-TTL:PT1H
BEGIN:VTIMEZONE
TZID:Europe/Sarajevo
BEGIN:DAYLIGHT
TZOFFSETFROM:+0100
TZOFFSETTO:+0200
TZNAME:CEST
DTSTART:20230326T010000
END:DAYLIGHT
BEGIN:STANDARD
TZOFFSETFROM:+0200
TZOFFSETTO:+0100
TZNAME:CET
DTSTART:20231029T010000
END:STANDARD
BEGIN:DAYLIGHT
TZOFFSETFROM:+0100
TZOFFSETTO:+0200
TZNAME:CEST
DTSTART:20240331T010000
END:DAYLIGHT
BEGIN:STANDARD
TZOFFSETFROM:+0200
TZOFFSETTO:+0100
TZNAME:CET
DTSTART:20241027T010000
END:STANDARD
BEGIN:DAYLIGHT
TZOFFSETFROM:+0100
TZOFFSETTO:+0200
TZNAME:CEST
DTSTART:20250330T010000
END:DAYLIGHT
BEGIN:STANDARD
TZOFFSETFROM:+0200
TZOFFSETTO:+0100
TZNAME:CET
DTSTART:20251026T010000
END:STANDARD
END:VTIMEZONE
BEGIN:VEVENT
DTSTART;TZID=Europe/Sarajevo:20240924T090000
DTEND;TZID=Europe/Sarajevo:20240926T123000
DTSTAMP:20260422T033242
CREATED:20240830T100033Z
LAST-MODIFIED:20240905T105510Z
UID:3040-1727168400-1727353800@rs.cest.gov.ba
SUMMARY:Digitalne istrage u slučajevima trgovine ljudima i krijumčarenja migranata
DESCRIPTION:Izlagači: Ahmed Mešić\, Dragana Vujić\, Elvir Mraković i Refik Bešić \nDnevni red: \n\nseptembar 2024.\n\n09:00-09:25     Uvodno obraćanje \n09:25-09:30     Uvodni test znanja \n09:30- 10:45    Savremeni izazovi u trgovini ljudima i krijumčarenju migranata \n\nUtjecaj informaciono-komunikacijskih tehnologija i digitalnih dokaza\n\nPredavači: Ahmed Mešić\, Tužilac (Tužilaštvo BiH/ TBiH) i Dragana Vujić\, Inspektorica kriminalističke policije (Jedinica za visokotehnološki kriminalitet\, MUP RS) \n10:45-11:15     Pauza za kafu \n11:15- 12:15    Osnove računara\, interneta i visokotehnološkog kriminala  (VTK) \nPredavač: Dragana Vujić\, MUP RS \n12:15-13:30     Ručak \n13:30-14:30     Osnove digitalnih dokaza \nPredavači: Elvir Mraković\, Samostalni inspektor (Državna agencija za istrage i zaštitu/ SIPA) i Ahmed Mešić\, TBiH \n14:30-15:00     Pauza za kafu \n15:00- 16:00    Krijumčarenja ljudi i VTK \n\nIstrage\, radnje dokazivanja i načini postupanja u predmetima\n\nPredavač: Refik Bešić\, Inspektor za istrage (Granična policija/GP BiH) \n16:00-16:30     Diskusija \n\nseptembar 2024.\n\n09:00-10:00     Digitalni novac i virtuelne valute \nPredavač: Dragana Vujić\, MUP RS \n10:00-10:30     Krivično-pravna  saradnja sa pružaocima Internet usluga i sadržaja (ISP i ICP) \nPredavač: Ahmed Mešić\, TBiH \n10:30-11:00     Pauza za kafu \n11:00-12:30     Digitalni dokazi u slučajevima trgovine ljudima (Studija slučaja) \nPredavači: Ahmed Mešić\, TBiH i Elvir Mraković\, SIPA \n12:30-13:30     Ručak \n13:30-15:00     Digitalni dokazi u slučajevima krijumčarenja migranata (Studija slučaja) \nPredavači: Elvir Mraković\, SIPA i Refik Bešić\, GP BiH \n15:00-15:30     Pauza za kafu \n15:30-17:00     Priprema za studiju slučaja – grupna vježba učesnika \n\nseptembar 2024.\n\n09:00-11:00     Grupna prezentacija studije slučaja i komentari izlagača \nGrupa I\, II\, III\, IV (po 30’) \n11:00-11:30     Pauza za kafu \n11:30-12:15     Diskusija
URL:https://rs.cest.gov.ba/event/digitalne-istrage-u-slucajevima-trgovine-ljudima-i-krijumcarenja-migranata/
LOCATION:Banja Luka
CATEGORIES:Krivičnopravna oblast
END:VEVENT
END:VCALENDAR