BEGIN:VCALENDAR
VERSION:2.0
PRODID:-//Javna ustanova Centar za edukaciju sudija i tužilaca u Republici Srpskoj - ECPv6.15.20//NONSGML v1.0//EN
CALSCALE:GREGORIAN
METHOD:PUBLISH
X-ORIGINAL-URL:https://rs.cest.gov.ba
X-WR-CALDESC:Events for Javna ustanova Centar za edukaciju sudija i tužilaca u Republici Srpskoj
REFRESH-INTERVAL;VALUE=DURATION:PT1H
X-Robots-Tag:noindex
X-PUBLISHED-TTL:PT1H
BEGIN:VTIMEZONE
TZID:Europe/Sarajevo
BEGIN:DAYLIGHT
TZOFFSETFROM:+0100
TZOFFSETTO:+0200
TZNAME:CEST
DTSTART:20230326T010000
END:DAYLIGHT
BEGIN:STANDARD
TZOFFSETFROM:+0200
TZOFFSETTO:+0100
TZNAME:CET
DTSTART:20231029T010000
END:STANDARD
BEGIN:DAYLIGHT
TZOFFSETFROM:+0100
TZOFFSETTO:+0200
TZNAME:CEST
DTSTART:20240331T010000
END:DAYLIGHT
BEGIN:STANDARD
TZOFFSETFROM:+0200
TZOFFSETTO:+0100
TZNAME:CET
DTSTART:20241027T010000
END:STANDARD
BEGIN:DAYLIGHT
TZOFFSETFROM:+0100
TZOFFSETTO:+0200
TZNAME:CEST
DTSTART:20250330T010000
END:DAYLIGHT
BEGIN:STANDARD
TZOFFSETFROM:+0200
TZOFFSETTO:+0100
TZNAME:CET
DTSTART:20251026T010000
END:STANDARD
END:VTIMEZONE
BEGIN:VEVENT
DTSTART;TZID=Europe/Sarajevo:20240923T093000
DTEND;TZID=Europe/Sarajevo:20240923T190000
DTSTAMP:20260422T033409
CREATED:20240910T113419Z
LAST-MODIFIED:20240913T100853Z
UID:3233-1727083800-1727118000@rs.cest.gov.ba
SUMMARY:Finansijske istrage i oduzimanje imovinske koristi
DESCRIPTION:Finansijske istrage i oduzimanje imovinske koristi stečene krivičnim djelom\, s fokusom na prošireno oduzimanje imovinske koristi \nIzlagači: Miloš Šoškić\, prof. dr. Eldan Mujanović i Vanesa Jusufbegović \nDnevni red: \n09.00 – 09.30 Registracija učesnika \n09.30 – 09.45 Otvaranje događaja i uvodne riječi \nSESIJA I Oduzimanje imovinske koristi pribavljene krivičnim djelom u tradicionalnim i   savremenim konceptima suzbijanja kriminala \n09:45 – 10:30 Redovno i prošireno oduzimanje nezakonite imovine\, oduzimanje bez krivične presude i oduzimanje nezakonito stečenog bogastva \n– pravni koncepti i mehanizmi implementacije\, uključujući različite vrste imovine na koje se odnose mjere oduzimanja \n10.30 – 10.45 Pauza za kafu \n10.45 – 11.30 Pregled sudske prakse ESLJP-a u oblasti oduzimanja imovinske koristi pribavljene krivičnim djelom \nSESIJA II Praćenje nelegalne imovine – uloga finansijskih istraga\, utvrđivanje vlasništva\, posjeda i kontrole nad sumnjivom imovinom\, najnoviji trendovi u identifikaciji stvarnog vlasništva i istrage o pranju novca \n11.30 – 12.15 Finansijske istrage – Metode prikupljanja podataka\, pristup registrima i bazama podataka\, standardi uspostavljanja stvarnog vlasništva i međuagencijska saradnja \n12.15 – 13.00 Krivična djela pranja novca u kontekstu istraga organizovanog kriminala i korupcije – standardi dokazivanja i značaj finansijskih istraga \n13.00 – 14.00 Ručak \nSESIJA III Vježbe studije slučaja – planiranje i implementacija finansijskih istraga i izgradnja predmeta \n14.00 – 15.00 Podjela učesnika u dvije grupe\, pojašnjenje koncepta rada na studijama slučaja\, određivanje predstavnika radnih grupa i dodjela fasilitatora \n15.00 – 15.45 Prezentacija rada na studijama slučaja – koraci u finansijskoj istrazi\, podaci i informacije koje treba prikupiti i dokazna relevantnost \n15.45 – 16.00 Diskusija i završne riječi
URL:https://rs.cest.gov.ba/event/finansijske-istrage-i-oduzimanje-imovinske-koristi/
LOCATION:Tarčin
CATEGORIES:Krivičnopravna oblast
END:VEVENT
END:VCALENDAR