BEGIN:VCALENDAR
VERSION:2.0
PRODID:-//Javna ustanova Centar za edukaciju sudija i tužilaca u Republici Srpskoj - ECPv6.15.20//NONSGML v1.0//EN
CALSCALE:GREGORIAN
METHOD:PUBLISH
X-WR-CALNAME:Javna ustanova Centar za edukaciju sudija i tužilaca u Republici Srpskoj
X-ORIGINAL-URL:https://rs.cest.gov.ba
X-WR-CALDESC:Events for Javna ustanova Centar za edukaciju sudija i tužilaca u Republici Srpskoj
REFRESH-INTERVAL;VALUE=DURATION:PT1H
X-Robots-Tag:noindex
X-PUBLISHED-TTL:PT1H
BEGIN:VTIMEZONE
TZID:Europe/Sarajevo
BEGIN:DAYLIGHT
TZOFFSETFROM:+0100
TZOFFSETTO:+0200
TZNAME:CEST
DTSTART:20230326T010000
END:DAYLIGHT
BEGIN:STANDARD
TZOFFSETFROM:+0200
TZOFFSETTO:+0100
TZNAME:CET
DTSTART:20231029T010000
END:STANDARD
BEGIN:DAYLIGHT
TZOFFSETFROM:+0100
TZOFFSETTO:+0200
TZNAME:CEST
DTSTART:20240331T010000
END:DAYLIGHT
BEGIN:STANDARD
TZOFFSETFROM:+0200
TZOFFSETTO:+0100
TZNAME:CET
DTSTART:20241027T010000
END:STANDARD
BEGIN:DAYLIGHT
TZOFFSETFROM:+0100
TZOFFSETTO:+0200
TZNAME:CEST
DTSTART:20250330T010000
END:DAYLIGHT
BEGIN:STANDARD
TZOFFSETFROM:+0200
TZOFFSETTO:+0100
TZNAME:CET
DTSTART:20251026T010000
END:STANDARD
END:VTIMEZONE
BEGIN:VEVENT
DTSTART;TZID=Europe/Sarajevo:20240918T090000
DTEND;TZID=Europe/Sarajevo:20240919T133000
DTSTAMP:20260422T033242
CREATED:20240830T093528Z
LAST-MODIFIED:20240905T105322Z
UID:3030-1726650000-1726752600@rs.cest.gov.ba
SUMMARY:Krivična odgovornost i sankcionisanje počinilaca nasilja u porodici
DESCRIPTION:Izlagači: Jasmina Habul\, Maida Čehajić i Vladimir Nakić \nDnevni red: \n17. 09. 2024.\n9:00 – 9:30 Otvaranje seminara\, upoznavanje učesnika/ca\n9:30 – 10:15 Posljedice nasilja u porodici na počinioce nasilja\n(Zakon o zaštiti od nasilja u porodici\, Krivični zakoni\, Zakon o policiji i unutrašnjim poslovima Republike Srpske\, Zakon o prekršajima\, Porodični zakon)\nPredavač: Jasmina Habul OJT Istočno Sarajevo\n10:15 – 10:45 Statistike\, kaznena politika\, podaci VSTV-a\, olakšavajuće i otežavajuće okolnosti – predstavnik/ca VSTV-a\n10:45 – 11:15 Pauza\n11:15 – 12:30 Rad u grupama (studija slučaja) – Atlanska Inicijativa i FUŽ\n12:30 – 13:30 Predstavljanje rada iz grupa\n13:30 – 15:00 Ručak\n15:00 – 16:00 Analiza presuda u oblasti nasilja nad ženama\nPredavač: Maida Čehajić\, Atlantska inicijativa\n18. 09. 2024.\n9:30 – 10:45 Pojam\, nadležnosti i mogućnosti za izricanje mjere psihosocijalnog tretmana počinioca nasilja u porodici\nPredavač: Vladimir Nakić\, dipl. socijalni radnik\, voditelj i edukator psihosocijalnog tretmana za počinioce nasilja u porodici\n10:45 – 11:30 Iskustva iz prakse\, lokalni i regionalni nivo\, diskusija\nPredavač: Vladimir Nakić\, dipl. socijalni radnik\, voditelj i edukator psihosocijalnog tretmana za počinioce nasilja u porodici\n11:30 – 12:00 Pauza za kafu\n12:00 – 13:30 Diskusija i evaluacija\n14:30 Ručak
URL:https://rs.cest.gov.ba/event/krivicna-odgovornost-i-sankcionisanje-pocinilaca-nasilja-u-porodici/
LOCATION:Ozren
CATEGORIES:Krivičnopravna oblast
END:VEVENT
END:VCALENDAR