BEGIN:VCALENDAR
VERSION:2.0
PRODID:-//Javna ustanova Centar za edukaciju sudija i tužilaca u Republici Srpskoj - ECPv6.15.20//NONSGML v1.0//EN
CALSCALE:GREGORIAN
METHOD:PUBLISH
X-WR-CALNAME:Javna ustanova Centar za edukaciju sudija i tužilaca u Republici Srpskoj
X-ORIGINAL-URL:https://rs.cest.gov.ba
X-WR-CALDESC:Events for Javna ustanova Centar za edukaciju sudija i tužilaca u Republici Srpskoj
REFRESH-INTERVAL;VALUE=DURATION:PT1H
X-Robots-Tag:noindex
X-PUBLISHED-TTL:PT1H
BEGIN:VTIMEZONE
TZID:Europe/Sarajevo
BEGIN:DAYLIGHT
TZOFFSETFROM:+0100
TZOFFSETTO:+0200
TZNAME:CEST
DTSTART:20230326T010000
END:DAYLIGHT
BEGIN:STANDARD
TZOFFSETFROM:+0200
TZOFFSETTO:+0100
TZNAME:CET
DTSTART:20231029T010000
END:STANDARD
BEGIN:DAYLIGHT
TZOFFSETFROM:+0100
TZOFFSETTO:+0200
TZNAME:CEST
DTSTART:20240331T010000
END:DAYLIGHT
BEGIN:STANDARD
TZOFFSETFROM:+0200
TZOFFSETTO:+0100
TZNAME:CET
DTSTART:20241027T010000
END:STANDARD
BEGIN:DAYLIGHT
TZOFFSETFROM:+0100
TZOFFSETTO:+0200
TZNAME:CEST
DTSTART:20250330T010000
END:DAYLIGHT
BEGIN:STANDARD
TZOFFSETFROM:+0200
TZOFFSETTO:+0100
TZNAME:CET
DTSTART:20251026T010000
END:STANDARD
END:VTIMEZONE
BEGIN:VEVENT
DTSTART;TZID=Europe/Sarajevo:20240424T080000
DTEND;TZID=Europe/Sarajevo:20240424T170000
DTSTAMP:20260422T151257
CREATED:20240424T095405Z
LAST-MODIFIED:20240704T095453Z
UID:2307-1713945600-1713978000@rs.cest.gov.ba
SUMMARY:Posebna komplementarna znanja i dodjela Certifikata
DESCRIPTION:Posebna komplementarna znanja i dodjela Certifikata \nDatum: 24.4.2024.god. \nMjesto: Sarajevo
URL:https://rs.cest.gov.ba/event/posebna-komplementarna-znanja-i-dodjela-certifikata/
LOCATION:Sarajevo
END:VEVENT
BEGIN:VEVENT
DTSTART;TZID=Europe/Sarajevo:20240424T080000
DTEND;TZID=Europe/Sarajevo:20240424T170000
DTSTAMP:20260422T151257
CREATED:20240424T095554Z
LAST-MODIFIED:20240704T095635Z
UID:2309-1713945600-1713978000@rs.cest.gov.ba
SUMMARY:Novine u praksi Evropskog suda za ljudska prava
DESCRIPTION:Novine u praksi Evropskog suda za ljudska prava \nDatum: 24.4.2024. god. \nMjesto: Sarajevo
URL:https://rs.cest.gov.ba/event/novine-u-praksi-evropskog-suda-za-ljudska-prava/
LOCATION:Sarajevo
END:VEVENT
BEGIN:VEVENT
DTSTART;TZID=Europe/Sarajevo:20240424T080000
DTEND;TZID=Europe/Sarajevo:20240425T170000
DTSTAMP:20260422T151257
CREATED:20240424T095111Z
LAST-MODIFIED:20240704T095130Z
UID:2305-1713945600-1714064400@rs.cest.gov.ba
SUMMARY:Specifičnosti krivičnog postupka prema djeci i maloljetnicima
DESCRIPTION:Specifičnosti krivičnog postupka prema djeci i maloljetnicima \nDatum: 24-25.4. 2024.god. \nMjesto: Banja Luka
URL:https://rs.cest.gov.ba/event/specificnosti-krivicnog-postupka-prema-djeci-i-maloljetnicima/
LOCATION:Banja Luka
END:VEVENT
END:VCALENDAR