BEGIN:VCALENDAR
VERSION:2.0
PRODID:-//Javna ustanova Centar za edukaciju sudija i tužilaca u Republici Srpskoj - ECPv6.15.20//NONSGML v1.0//EN
CALSCALE:GREGORIAN
METHOD:PUBLISH
X-ORIGINAL-URL:https://rs.cest.gov.ba
X-WR-CALDESC:Events for Javna ustanova Centar za edukaciju sudija i tužilaca u Republici Srpskoj
REFRESH-INTERVAL;VALUE=DURATION:PT1H
X-Robots-Tag:noindex
X-PUBLISHED-TTL:PT1H
BEGIN:VTIMEZONE
TZID:Europe/Sarajevo
BEGIN:DAYLIGHT
TZOFFSETFROM:+0100
TZOFFSETTO:+0200
TZNAME:CEST
DTSTART:20230326T010000
END:DAYLIGHT
BEGIN:STANDARD
TZOFFSETFROM:+0200
TZOFFSETTO:+0100
TZNAME:CET
DTSTART:20231029T010000
END:STANDARD
BEGIN:DAYLIGHT
TZOFFSETFROM:+0100
TZOFFSETTO:+0200
TZNAME:CEST
DTSTART:20240331T010000
END:DAYLIGHT
BEGIN:STANDARD
TZOFFSETFROM:+0200
TZOFFSETTO:+0100
TZNAME:CET
DTSTART:20241027T010000
END:STANDARD
BEGIN:DAYLIGHT
TZOFFSETFROM:+0100
TZOFFSETTO:+0200
TZNAME:CEST
DTSTART:20250330T010000
END:DAYLIGHT
BEGIN:STANDARD
TZOFFSETFROM:+0200
TZOFFSETTO:+0100
TZNAME:CET
DTSTART:20251026T010000
END:STANDARD
END:VTIMEZONE
BEGIN:VEVENT
DTSTART;TZID=Europe/Sarajevo:20240423T080000
DTEND;TZID=Europe/Sarajevo:20240423T170000
DTSTAMP:20260422T151316
CREATED:20240423T104925Z
LAST-MODIFIED:20240704T105013Z
UID:2311-1713859200-1713891600@rs.cest.gov.ba
SUMMARY:Priprema za suđenje\, vođenje postupka i donošenje odluke
DESCRIPTION:Priprema za suđenje\, vođenje postupka i donošenje odluke \nDatum: 23.4.2024. god. \nMjesto: Sarajevo
URL:https://rs.cest.gov.ba/event/priprema-za-sudjenje-vodjenje-postupka-i-donosenje-odluke/
LOCATION:Sarajevo
END:VEVENT
BEGIN:VEVENT
DTSTART;TZID=Europe/Sarajevo:20240423T080000
DTEND;TZID=Europe/Sarajevo:20240423T170000
DTSTAMP:20260422T151316
CREATED:20240704T105324Z
LAST-MODIFIED:20240704T105324Z
UID:2316-1713859200-1713891600@rs.cest.gov.ba
SUMMARY:Pložaj akcionara u stečaju
DESCRIPTION:Pložaj akcionara u stečaju \nDatum: 23.4.2024.god \nMjesto: Online obuka \nPredavač: Božana Gužvić
URL:https://rs.cest.gov.ba/event/plozaj-akcionara-u-stecaju-2/
LOCATION:Online obuka
END:VEVENT
BEGIN:VEVENT
DTSTART;TZID=Europe/Sarajevo:20240423T080000
DTEND;TZID=Europe/Sarajevo:20240423T170000
DTSTAMP:20260422T151316
CREATED:20240705T065044Z
LAST-MODIFIED:20240705T065044Z
UID:2318-1713859200-1713891600@rs.cest.gov.ba
SUMMARY:Pložaj akcionara u stečaju
DESCRIPTION:Pložaj akcionara u stečaju \nDatum: 23.4.2024.god \nMjesto: Online obuka \nPredavač: Božana Gužvić
URL:https://rs.cest.gov.ba/event/plozaj-akcionara-u-stecaju-3/
LOCATION:Online obuka
END:VEVENT
END:VCALENDAR