BEGIN:VCALENDAR
VERSION:2.0
PRODID:-//Javna ustanova Centar za edukaciju sudija i tužilaca u Republici Srpskoj - ECPv6.15.20//NONSGML v1.0//EN
CALSCALE:GREGORIAN
METHOD:PUBLISH
X-ORIGINAL-URL:https://rs.cest.gov.ba
X-WR-CALDESC:Events for Javna ustanova Centar za edukaciju sudija i tužilaca u Republici Srpskoj
REFRESH-INTERVAL;VALUE=DURATION:PT1H
X-Robots-Tag:noindex
X-PUBLISHED-TTL:PT1H
BEGIN:VTIMEZONE
TZID:Europe/Sarajevo
BEGIN:DAYLIGHT
TZOFFSETFROM:+0100
TZOFFSETTO:+0200
TZNAME:CEST
DTSTART:20230326T010000
END:DAYLIGHT
BEGIN:STANDARD
TZOFFSETFROM:+0200
TZOFFSETTO:+0100
TZNAME:CET
DTSTART:20231029T010000
END:STANDARD
BEGIN:DAYLIGHT
TZOFFSETFROM:+0100
TZOFFSETTO:+0200
TZNAME:CEST
DTSTART:20240331T010000
END:DAYLIGHT
BEGIN:STANDARD
TZOFFSETFROM:+0200
TZOFFSETTO:+0100
TZNAME:CET
DTSTART:20241027T010000
END:STANDARD
BEGIN:DAYLIGHT
TZOFFSETFROM:+0100
TZOFFSETTO:+0200
TZNAME:CEST
DTSTART:20250330T010000
END:DAYLIGHT
BEGIN:STANDARD
TZOFFSETFROM:+0200
TZOFFSETTO:+0100
TZNAME:CET
DTSTART:20251026T010000
END:STANDARD
END:VTIMEZONE
BEGIN:VEVENT
DTSTART;TZID=Europe/Sarajevo:20240418T080000
DTEND;TZID=Europe/Sarajevo:20240419T170000
DTSTAMP:20260422T151316
CREATED:20240418T105545Z
LAST-MODIFIED:20240704T105650Z
UID:2323-1713427200-1713546000@rs.cest.gov.ba
SUMMARY:Rodna (ne) ravnopravnost: stereotipi i predrasude
DESCRIPTION:Rodna (ne) ravnopravnost: stereotipi i predrasude \nDatum: 18-19.4.2024.god. \nMjesto: Neum
URL:https://rs.cest.gov.ba/event/rodna-ne-ravnopravnost-stereotipi-i-predrasude/
LOCATION:Neum
END:VEVENT
BEGIN:VEVENT
DTSTART;TZID=Europe/Sarajevo:20240418T080000
DTEND;TZID=Europe/Sarajevo:20240419T170000
DTSTAMP:20260422T151316
CREATED:20240418T105705Z
LAST-MODIFIED:20240704T105815Z
UID:2326-1713427200-1713546000@rs.cest.gov.ba
SUMMARY:Borba protiv visokotehnološkog kriminala
DESCRIPTION:Borba protiv visokotehnološkog kriminala \nDatum: 18-19.4.2024.god. \nMjesto: Sarajevo
URL:https://rs.cest.gov.ba/event/borba-protiv-visokotehnoloskog-kriminala/
LOCATION:Sarajevo
END:VEVENT
END:VCALENDAR