BEGIN:VCALENDAR
VERSION:2.0
PRODID:-//Javna ustanova Centar za edukaciju sudija i tužilaca u Republici Srpskoj - ECPv6.15.20//NONSGML v1.0//EN
CALSCALE:GREGORIAN
METHOD:PUBLISH
X-ORIGINAL-URL:https://rs.cest.gov.ba
X-WR-CALDESC:Events for Javna ustanova Centar za edukaciju sudija i tužilaca u Republici Srpskoj
REFRESH-INTERVAL;VALUE=DURATION:PT1H
X-Robots-Tag:noindex
X-PUBLISHED-TTL:PT1H
BEGIN:VTIMEZONE
TZID:Europe/Sarajevo
BEGIN:DAYLIGHT
TZOFFSETFROM:+0100
TZOFFSETTO:+0200
TZNAME:CEST
DTSTART:20230326T010000
END:DAYLIGHT
BEGIN:STANDARD
TZOFFSETFROM:+0200
TZOFFSETTO:+0100
TZNAME:CET
DTSTART:20231029T010000
END:STANDARD
BEGIN:DAYLIGHT
TZOFFSETFROM:+0100
TZOFFSETTO:+0200
TZNAME:CEST
DTSTART:20240331T010000
END:DAYLIGHT
BEGIN:STANDARD
TZOFFSETFROM:+0200
TZOFFSETTO:+0100
TZNAME:CET
DTSTART:20241027T010000
END:STANDARD
BEGIN:DAYLIGHT
TZOFFSETFROM:+0100
TZOFFSETTO:+0200
TZNAME:CEST
DTSTART:20250330T010000
END:DAYLIGHT
BEGIN:STANDARD
TZOFFSETFROM:+0200
TZOFFSETTO:+0100
TZNAME:CET
DTSTART:20251026T010000
END:STANDARD
END:VTIMEZONE
BEGIN:VEVENT
DTSTART;TZID=Europe/Sarajevo:20240408T080000
DTEND;TZID=Europe/Sarajevo:20240408T170000
DTSTAMP:20260422T151317
CREATED:20240408T113049Z
LAST-MODIFIED:20240704T113132Z
UID:2389-1712563200-1712595600@rs.cest.gov.ba
SUMMARY:Aktuelna pitanja iz Zakona o stvarnim pravima Republike Srpske
DESCRIPTION:Aktuelna pitanja iz Zakona o stvarnim pravima Republike Srpske \nDatum: 8.4.2024.god. \nMjesto: Banja Luka \nPredavači: Nermana Sadiković
URL:https://rs.cest.gov.ba/event/aktuelna-pitanja-iz-zakona-o-stvarnim-pravima-republike-srpske-2/
LOCATION:Banja Luka
END:VEVENT
BEGIN:VEVENT
DTSTART;TZID=Europe/Sarajevo:20240408T080000
DTEND;TZID=Europe/Sarajevo:20240409T170000
DTSTAMP:20260422T151317
CREATED:20240408T113145Z
LAST-MODIFIED:20240704T113228Z
UID:2391-1712563200-1712682000@rs.cest.gov.ba
SUMMARY:Obuka za glasnogovornike
DESCRIPTION:Obuka za glasnogovornike \nDatum:8-9.4.2024.god. \nMjesto: Sarajevo
URL:https://rs.cest.gov.ba/event/obuka-za-glasnogovornike/
LOCATION:Sarajevo
END:VEVENT
END:VCALENDAR