BEGIN:VCALENDAR
VERSION:2.0
PRODID:-//Javna ustanova Centar za edukaciju sudija i tužilaca u Republici Srpskoj - ECPv6.15.20//NONSGML v1.0//EN
CALSCALE:GREGORIAN
METHOD:PUBLISH
X-ORIGINAL-URL:https://rs.cest.gov.ba
X-WR-CALDESC:Events for Javna ustanova Centar za edukaciju sudija i tužilaca u Republici Srpskoj
REFRESH-INTERVAL;VALUE=DURATION:PT1H
X-Robots-Tag:noindex
X-PUBLISHED-TTL:PT1H
BEGIN:VTIMEZONE
TZID:Europe/Sarajevo
BEGIN:DAYLIGHT
TZOFFSETFROM:+0100
TZOFFSETTO:+0200
TZNAME:CEST
DTSTART:20230326T010000
END:DAYLIGHT
BEGIN:STANDARD
TZOFFSETFROM:+0200
TZOFFSETTO:+0100
TZNAME:CET
DTSTART:20231029T010000
END:STANDARD
BEGIN:DAYLIGHT
TZOFFSETFROM:+0100
TZOFFSETTO:+0200
TZNAME:CEST
DTSTART:20240331T010000
END:DAYLIGHT
BEGIN:STANDARD
TZOFFSETFROM:+0200
TZOFFSETTO:+0100
TZNAME:CET
DTSTART:20241027T010000
END:STANDARD
BEGIN:DAYLIGHT
TZOFFSETFROM:+0100
TZOFFSETTO:+0200
TZNAME:CEST
DTSTART:20250330T010000
END:DAYLIGHT
BEGIN:STANDARD
TZOFFSETFROM:+0200
TZOFFSETTO:+0100
TZNAME:CET
DTSTART:20251026T010000
END:STANDARD
END:VTIMEZONE
BEGIN:VEVENT
DTSTART;TZID=Europe/Sarajevo:20240226T080000
DTEND;TZID=Europe/Sarajevo:20240227T170000
DTSTAMP:20260422T165456
CREATED:20240705T065044Z
LAST-MODIFIED:20240705T065044Z
UID:2350-1708934400-1709053200@rs.cest.gov.ba
SUMMARY:Značaj reakcije krivičnopravnog sistema na sve oblike nasilja obuhvaćene Istanbulskom konvencijom
DESCRIPTION:Značaj reakcije krivičnopravnog sistema na sve oblike nasilja obuhvaćene Istanbulskom konvencijom \nDatum: 26-27.2.2024.god. \nMjesto: Teslić \nPredavači: Slavica Tadić
URL:https://rs.cest.gov.ba/event/znacaj-reakcije-krivicnopravnog-sistema-na-sve-oblike-nasilja-obuhvacene-istanbulskom-konvencijom/
LOCATION:Teslić
END:VEVENT
END:VCALENDAR