BEGIN:VCALENDAR
VERSION:2.0
PRODID:-//Javna ustanova Centar za edukaciju sudija i tužilaca u Republici Srpskoj - ECPv6.15.20//NONSGML v1.0//EN
CALSCALE:GREGORIAN
METHOD:PUBLISH
X-WR-CALNAME:Javna ustanova Centar za edukaciju sudija i tužilaca u Republici Srpskoj
X-ORIGINAL-URL:https://rs.cest.gov.ba
X-WR-CALDESC:Events for Javna ustanova Centar za edukaciju sudija i tužilaca u Republici Srpskoj
REFRESH-INTERVAL;VALUE=DURATION:PT1H
X-Robots-Tag:noindex
X-PUBLISHED-TTL:PT1H
BEGIN:VTIMEZONE
TZID:Europe/Sarajevo
BEGIN:DAYLIGHT
TZOFFSETFROM:+0100
TZOFFSETTO:+0200
TZNAME:CEST
DTSTART:20230326T010000
END:DAYLIGHT
BEGIN:STANDARD
TZOFFSETFROM:+0200
TZOFFSETTO:+0100
TZNAME:CET
DTSTART:20231029T010000
END:STANDARD
BEGIN:DAYLIGHT
TZOFFSETFROM:+0100
TZOFFSETTO:+0200
TZNAME:CEST
DTSTART:20240331T010000
END:DAYLIGHT
BEGIN:STANDARD
TZOFFSETFROM:+0200
TZOFFSETTO:+0100
TZNAME:CET
DTSTART:20241027T010000
END:STANDARD
BEGIN:DAYLIGHT
TZOFFSETFROM:+0100
TZOFFSETTO:+0200
TZNAME:CEST
DTSTART:20250330T010000
END:DAYLIGHT
BEGIN:STANDARD
TZOFFSETFROM:+0200
TZOFFSETTO:+0100
TZNAME:CET
DTSTART:20251026T010000
END:STANDARD
END:VTIMEZONE
BEGIN:VEVENT
DTSTART;TZID=Europe/Sarajevo:20240219T080000
DTEND;TZID=Europe/Sarajevo:20240220T170000
DTSTAMP:20260422T201034
CREATED:20240705T065044Z
LAST-MODIFIED:20240705T065044Z
UID:2345-1708329600-1708448400@rs.cest.gov.ba
SUMMARY:Primjena pravosudnih smjernica za zaštitu žrtava trgovine ljudima i efikasnije kažnjavanje učinioca
DESCRIPTION:Primjena pravosudnih smjernica za zaštitu žrtava trgovine ljudima i efikasnije kažnjavanje učinioca \nDatum: 19-20.2.2024.god. \nMjesto: Banja Luka \nPredavači: Dragica Glušac
URL:https://rs.cest.gov.ba/event/primjena-pravosudnih-smjernica-za-zastitu-zrtava-trgovine-ljudima-i-efikasnije-kaznjavanje-ucinioca/
LOCATION:Banja Luka
END:VEVENT
BEGIN:VEVENT
DTSTART;TZID=Europe/Sarajevo:20240220T080000
DTEND;TZID=Europe/Sarajevo:20240220T170000
DTSTAMP:20260422T201034
CREATED:20240705T065044Z
LAST-MODIFIED:20240705T065044Z
UID:2347-1708416000-1708448400@rs.cest.gov.ba
SUMMARY:Obrazloženje sudske odluke i ljudska prava
DESCRIPTION:Obrazloženje sudske odluke i ljudska prava \nDatum: 20.2.2024.god \nMjesto: Online obuka
URL:https://rs.cest.gov.ba/event/obrazlozenje-sudske-odluke-i-ljudska-prava/
LOCATION:Online obuka
END:VEVENT
END:VCALENDAR